Workbook

Sheet AUXILIAR DE LIMPEZA
A1: ANEXO V - PLANILHA DE CUSTOS E FORMAÇÃO DE PREÇOS
A2: MODELO DE FORMAÇÃO DE CUSTO MENSAL PARA UM EMPREGADO
A4: MÓDULO 1 - REMUNERAÇÃO
A6: SALÁRIO BASE
A7: SALÁRIO BASE | C7: CCT | E7: DIVISOR MENSAL
A8: AUXILIAR DE LIMPEZA 44H | B8: 0 | C8: RS004917/2023 | E8: 220
A10: SALÁRIO BASE | E10: DIVISOR MENSAL
A11: AUXILIAR DE LIMPEZA 40H | B11: =B8/44*40 -> 0 | E11: 200
A13: GRATIFICAÇÃO DE FUNÇÃO
A15: GRATIFICAÇÃO DE FUNÇÃO
A16: Categoria | B16: Base de cálculo | C16: Percentual | D16: Valor da Gratificação
A17: AUXILIAR DE LIMPEZA | B17: =B11 -> 0 | D17: =B17*C17 -> 0
A19: ADICIONAIS (periculosidade ou insalubridade, se houver)
A21: ADICIONAL DE INSALUBRIDADE
A23: ADICIONAL INSALUBRIDADE
A24: Categoria | B24: Base de cálculo | C24: Percentual | D24: Valor
A25: AUXILIAR DE LIMPEZA (40h semanais) | B25: =B8 -> 0 | C25: 0.4 | D25: =B25*C25 -> 0
A27: MÓDULO 1 - REMUNERAÇÃO
A29: MÓDULO 1 - REMUNERAÇÃO
A30: Categoria | B30: Salário Base | C30: Gratificação de função | D30: Adicional de Periculosidade ou Insalubridade | E30: Adicional Noturno | G30: Total
A31: AUXILIAR DE LIMPEZA (40h semanais) | B31: =B11 -> 0 | C31: =D17 -> 0 | D31: =D25 -> 0 | G31: =SUM(B31:F31) -> 0
A33: MÓDULO 2 - ENCARGOS E BENEFÍCIOS (ANUAIS, MENSAIS E DIÁRIOS)
A35: SUBMÓDULO 2.1 – 13° SALÁRIO, FÉRIAS E ADICIONAL DE FÉRIAS
A37: 13° SALÁRIO Previsto no Decreto 57.155, de 1965.
A38: Categoria | B38: Base de cálculo | C38: Provisionamento Mensal | D38: Valor
A39: AUXILIAR DE LIMPEZA (40h semanais) | B39: =G31 -> 0 | C39: =1/12 -> 0.083333333 | D39: =B39*C39 -> 0
A41: FÉRIAS Previsto no art. 7° da Constituição Federal
A42: Categoria | B42: Base de cálculo | C42: Provisionamento Mensal | D42: Valor
A43: AUXILIAR DE LIMPEZA (40h semanais) | B43: =G31 -> 0 | C43: =1/12 -> 0.083333333 | D43: =B43*C43 -> 0
A45: ADICIONAL DE FÉRIAS - 1/3 CONSTITUCIONAL
A46: Categoria | B46: Base de cálculo | C46: Alíquota Adicional | D46: Provisionamento Mensal | E46: Valor
A47: AUXILIAR DE LIMPEZA (40h semanais) | B47: =G31 -> 0 | C47: =1/3 -> 0.33333333 | D47: =1/12 -> 0.083333333 | E47: =B47*C47*D47 -> 0
A49: SUBMÓDULO 2.1 – 13° SALÁRIO, FÉRIAS E ADICIONAL DE FÉRIAS
A50: Categoria | B50: 13° Salário | C50: Férias | D50: 1/3 Constitucional | E50: Total
A51: AUXILIAR DE LIMPEZA (40h semanais) | B51: =D39 -> 0 | C51: =D43 -> 0 | D51: =E47 -> 0 | E51: =SUM(B51:D51) -> 0
A53: SUBMÓDULO 2.2 - ENCARGOS PREVIDENCIÁRIOS E FGTS
A55: COMPOSIÇÃO DO GPS E FGTS
A56: Encargos | B56: Percentual
A57: INSS - empregador | B57: 0
A58: Salário-Educação | B58: 0
...

Sheet COPEIRO
A1: ANEXO V - PLANILHA DE CUSTOS E FORMAÇÃO DE PREÇOS
A2: MODELO DE FORMAÇÃO DE CUSTO MENSAL PARA UM EMPREGADO
A4: MÓDULO 1 - REMUNERAÇÃO
A6: SALÁRIO BASE
A7: SALÁRIO BASE | C7: CCT | E7: DIVISOR MENSAL
A8: COPEIRO 44H | B8: 0 | C8: RS004917/2023 | E8: 220
A10: SALÁRIO BASE | E10: DIVISOR MENSAL
A11: COPEIRO 40H | B11: =B8/44*40 -> 0 | E11: 200
A13: GRATIFICAÇÃO DE FUNÇÃO
A15: GRATIFICAÇÃO DE FUNÇÃO
A16: Categoria | B16: Base de cálculo | C16: Percentual | D16: Valor da Gratificação
A17: COPEIRO | B17: =B11 -> 0 | D17: =B17*C17 -> 0
A19: ADICIONAIS (periculosidade ou insalubridade, se houver)
A21: ADICIONAL DE INSALUBRIDADE
A22: Categoria | B22: Base de cálculo | C22: Percentual | D22: Valor
A23: COPEIRO (40h semanais) | B23: =B8 -> 0 | C23: 0.2 | D23: =B23*C23 -> 0
A25: MÓDULO 1 - REMUNERAÇÃO
A27: MÓDULO 1 - REMUNERAÇÃO
A28: Categoria | B28: Salário Base | C28: Gratificação de função | D28: Adicional de Periculosidade ou Insalubridade | E28: Adicional Noturno | G28: Total
A29: COPEIRO (40h semanais) | B29: =B11 -> 0 | C29: =D17 -> 0 | D29: =D23 -> 0 | G29: =SUM(B29:D29) -> 0
A31: MÓDULO 2 - ENCARGOS E BENEFÍCIOS (ANUAIS, MENSAIS E DIÁRIOS)
A33: SUBMÓDULO 2.1 – 13° SALÁRIO, FÉRIAS E ADICIONAL DE FÉRIAS
A35: 13° SALÁRIO Previsto no Decreto 57.155, de 1965.
A36: Categoria | B36: Base de cálculo | C36: Provisionamento Mensal | D36: Valor
A37: COPEIRO (40h semanais) | B37: =G29 -> 0 | C37: =1/12 -> 0.083333333 | D37: =B37*C37 -> 0
A39: FÉRIAS Previsto no art. 7° da Constituição Federal
A40: Categoria | B40: Base de cálculo | C40: Provisionamento Mensal | D40: Valor
A41: COPEIRO (40h semanais) | B41: =G29 -> 0 | C41: =1/12 -> 0.083333333 | D41: =B41*C41 -> 0
A43: ADICIONAL DE FÉRIAS - 1/3 CONSTITUCIONAL
A44: Categoria | B44: Base de cálculo | C44: Alíquota Adicional | D44: Provisionamento Mensal | E44: Valor
A45: COPEIRO (40h semanais) | B45: =G29 -> 0 | C45: =1/3 -> 0.33333333 | D45: =1/12 -> 0.083333333 | E45: =B45*C45*D45 -> 0
A47: SUBMÓDULO 2.1 – 13° SALÁRIO, FÉRIAS E ADICIONAL DE FÉRIAS
A48: Categoria | B48: 13° Salário | C48: Férias | D48: 1/3 Constitucional | E48: Total
A49: COPEIRO (40h semanais) | B49: =D37 -> 0 | C49: =D41 -> 0 | D49: =E45 -> 0 | E49: =SUM(B49:D49) -> 0
A51: SUBMÓDULO 2.2 - ENCARGOS PREVIDENCIÁRIOS E FGTS
A53: COMPOSIÇÃO DO GPS E FGTS
A54: Encargos | B54: Percentual
A55: INSS - empregador | B55: 0
A56: Salário-Educação | B56: 0
A57: SAT- GIL/RAT | B57: 0
...

Sheet RECEPCIONISTA
A1: ANEXO V - PLANILHA DE CUSTOS E FORMAÇÃO DE PREÇOS
A2: MODELO DE FORMAÇÃO DE CUSTO MENSAL PARA UM EMPREGADO
A4: MÓDULO 1 - REMUNERAÇÃO
A6: SALÁRIO BASE
A7: SALÁRIO BASE | C7: CCT | E7: DIVISOR MENSAL
A8: RECEPCIONISTA 44H | B8: 0 | C8: RS004917/2023 | E8: 220
A10: SALÁRIO BASE | E10: DIVISOR MENSAL
A11: RECEPCIONISTA 40H | B11: =B8/44*40 -> 0 | E11: 200
A13: GRATIFICAÇÃO DE FUNÇÃO
A15: GRATIFICAÇÃO DE FUNÇÃO
A16: Categoria | B16: Base de cálculo | C16: Percentual | D16: Valor da Gratificação
A17: RECEPCIONISTA | B17: =B11 -> 0 | D17: =B17*C17 -> 0
A19: MÓDULO 1 - REMUNERAÇÃO
A21: MÓDULO 1 - REMUNERAÇÃO
A22: Categoria | B22: Salário Base | C22: Gratificação de função | D22: Adicional de Periculosidade ou Insalubridade | E22: Adicional Noturno | G22: Total
A23: RECEPCIONISTA (40h semanais) | B23: =B11 -> 0 | C23: =D17 -> 0 | D23: 0 | G23: =SUM(B23:F23) -> 0
A25: MÓDULO 2 - ENCARGOS E BENEFÍCIOS (ANUAIS, MENSAIS E DIÁRIOS)
A27: SUBMÓDULO 2.1 – 13° SALÁRIO, FÉRIAS E ADICIONAL DE FÉRIAS
A29: 13° SALÁRIO Previsto no Decreto 57.155, de 1965.
A30: Categoria | B30: Base de cálculo | C30: Provisionamento Mensal | D30: Valor
A31: RECEPCIONISTA (40h semanais) | B31: =G23 -> 0 | C31: =1/12 -> 0.083333333 | D31: =B31*C31 -> 0
A33: FÉRIAS Previsto no art. 7° da Constituição Federal
A34: Categoria | B34: Base de cálculo | C34: Provisionamento Mensal | D34: Valor
A35: RECEPCIONISTA (40h semanais) | B35: =G23 -> 0 | C35: =1/12 -> 0.083333333 | D35: =B35*C35 -> 0
A37: ADICIONAL DE FÉRIAS - 1/3 CONSTITUCIONAL
A38: Categoria | B38: Base de cálculo | C38: Alíquota Adicional | D38: Provisionamento Mensal | E38: Valor
A39: RECEPCIONISTA (40h semanais) | B39: =G23 -> 0 | C39: =1/3 -> 0.33333333 | D39: =1/12 -> 0.083333333 | E39: =B39*C39*D39 -> 0
A41: SUBMÓDULO 2.1 – 13° SALÁRIO, FÉRIAS E ADICIONAL DE FÉRIAS
A42: Categoria | B42: 13° Salário | C42: Férias | D42: 1/3 Constitucional | E42: Total
A43: RECEPCIONISTA (40h semanais) | B43: =D31 -> 0 | C43: =D35 -> 0 | D43: =E39 -> 0 | E43: =SUM(B43:D43) -> 0
A45: SUBMÓDULO 2.2 - ENCARGOS PREVIDENCIÁRIOS E FGTS
A47: COMPOSIÇÃO DO GPS E FGTS
A48: Encargos | B48: Percentual
A49: INSS - empregador | B49: 0
A50: Salário-Educação | B50: 0
A51: SAT- GIL/RAT | B51: 0
A52: SESC | B52: 0
A53: SENAC | B53: 0
A54: SEBRAE | B54: 0
A55: INCRA | B55: 0
...

Sheet AUXILIAR DE ALMOXARIFADO
A1: ANEXO V - PLANILHA DE CUSTOS E FORMAÇÃO DE PREÇOS
A2: MODELO DE FORMAÇÃO DE CUSTO MENSAL PARA UM EMPREGADO
A4: MÓDULO 1 - REMUNERAÇÃO
A6: SALÁRIO BASE
A7: SALÁRIO BASE | C7: CCT | E7: DIVISOR MENSAL
A8: AUXILIAR DE ALMOXARIFADO (44h semanais) | B8: 0 | C8: RS004917/2023 | E8: 220
A10: SALÁRIO BASE | E10: DIVISOR MENSAL
A11: AUXILIAR DE ALMOXARIFADO (40h semanais) | B11: =B8/44*40 -> 0 | E11: 200
A13: GRATIFICAÇÃO DE FUNÇÃO
A15: GRATIFICAÇÃO DE FUNÇÃO
A16: Categoria | B16: Base de cálculo | C16: Percentual | D16: Valor da Gratificação
A17: AUXILIAR DE ALMOXARIFADO (40h semanais) | B17: =B11 -> 0 | D17: =B17*C17 -> 0
A19: MÓDULO 1 - REMUNERAÇÃO
A21: MÓDULO 1 - REMUNERAÇÃO
A22: Categoria | B22: Salário Base | C22: Gratificação de função | D22: Adicional de Periculosidade ou Insalubridade | E22: Adicional Noturno | G22: Total
A23: AUXILIAR DE ALMOXARIFADO (40h semanais) | B23: =B11 -> 0 | C23: =D17 -> 0 | D23: 0 | G23: =SUM(B23:F23) -> 0
A25: MÓDULO 2 - ENCARGOS E BENEFÍCIOS (ANUAIS, MENSAIS E DIÁRIOS)
A27: SUBMÓDULO 2.1 – 13° SALÁRIO, FÉRIAS E ADICIONAL DE FÉRIAS
A29: 13° SALÁRIO Previsto no Decreto 57.155, de 1965.
A30: Categoria | B30: Base de cálculo | C30: Provisionamento Mensal | D30: Valor
A31: AUXILIAR DE ALMOXARIFADO (40h semanais) | B31: =G23 -> 0 | C31: =1/12 -> 0.083333333 | D31: =B31*C31 -> 0
A33: FÉRIAS Previsto no art. 7° da Constituição Federal
A34: Categoria | B34: Base de cálculo | C34: Provisionamento Mensal | D34: Valor
A35: AUXILIAR DE ALMOXARIFADO (40h semanais) | B35: =G23 -> 0 | C35: =1/12 -> 0.083333333 | D35: =B35*C35 -> 0
A37: ADICIONAL DE FÉRIAS - 1/3 CONSTITUCIONAL
A38: Categoria | B38: Base de cálculo | C38: Alíquota Adicional | D38: Provisionamento Mensal | E38: Valor
A39: AUXILIAR DE ALMOXARIFADO (40h semanais) | B39: =G23 -> 0 | C39: =1/3 -> 0.33333333 | D39: =1/12 -> 0.083333333 | E39: =B39*C39*D39 -> 0
A41: SUBMÓDULO 2.1 – 13° SALÁRIO, FÉRIAS E ADICIONAL DE FÉRIAS
A42: Categoria | B42: 13° Salário | C42: Férias | D42: 1/3 Constitucional | E42: Total
A43: AUXILIAR DE ALMOXARIFADO (40h semanais) | B43: =D31 -> 0 | C43: =D35 -> 0 | D43: =E39 -> 0 | E43: =SUM(B43:D43) -> 0
A45: SUBMÓDULO 2.2 - ENCARGOS PREVIDENCIÁRIOS E FGTS
A47: COMPOSIÇÃO DO GPS E FGTS
A48: Encargos | B48: Percentual
A49: INSS - empregador | B49: 0
A50: Salário-Educação | B50: 0
A51: SAT- GIL/RAT | B51: 0
A52: SESC | B52: 0
A53: SENAC | B53: 0
A54: SEBRAE | B54: 0
A55: INCRA | B55: 0
...

Sheet TOTAL
A1: CARGO | B1: VALOR MENSAL
A2: AUXILIAR DE LIMPEZA | B2: =ROUND('AUXILIAR DE LIMPEZA'!D282,2) -> 0
A3: COPEIRO | B3: =ROUND(COPEIRO!D281,2) -> 0
A4: RECEPCIONISTA | B4: =ROUND(RECEPCIONISTA!D274,2) -> 0
A5: AUXILIAR DE ALMOXARIFADO | B5: =ROUND('AUXILIAR DE ALMOXARIFADO'!D274,2) -> 0
A7: TOTAIS
A8: TOTAL MENSAL | B8: =SUM(B2:B5) -> 0
A9: TOTAL ANUAL | B9: =B8*12 -> 0

Sheet GACED-demais
B3: http://bi.mte.gov.br/cagedestabelecimento/pages/consulta.xhtml#filtroNivelSetorial
C6: CAGED LEI Nº 4923/65
B7: MINISTÉRIO DO TRABALHO E PREVIDÊNCIA SOCIAL
B9: Secretaria de Políticas Públicas de Emprego
B10: Departamento de Emprego e Salário
B11: Coordenação Geral de Estatísticas de Trabalho
B13: CAGED ESTABELECIMENTO
B14: Demonstrativo Por Período
B16: 3132 - RIO GRANDE DO SUL
B17: Admissões
B18: Primeiro Emprego | E18: 649
B19: Reemprego | E19: 20416
B20: Início de Contrato por Prazo Determinado | E20: 294
B21: Reintegração | E21: 12
B22: Transferência de Entrada | E22: 0
B23: Total | E23: 21371
B24: Desligamentos
B25: Dispensados | E25: 9763 | G25: =E25/E35 -> 0.51917043
B26: Dispensado Com Justa Causa | E26: 322 | G26: =E26/E35 -> 0.017123106 | H26: =E25/E35 -> 0.51917043
B27: Dispensado Sem Justa Causa | E27: 9441 | G27: =E27/E35 -> 0.50204733
B28: Espontâneos | E28: 4220 | G28: =E28/$E$35 -> 0.2244084 | H28: =+G28+G29+G30+G31+G32+G33+G34 -> 0.48082957
B29: Fim de Contrato por Prazo Determinado | E29: 295 | G29: =E29/$E$35 -> 0.015687317
B30: Término de Contrato | E30: 4462 | G30: =E30/$E$35 -> 0.23727732
B31: Aposentados | E31: 4 | G31: =E31/$E$35 -> 0.00021270939
B32: Mortos | E32: 61 | G32: =E32/$E$35 -> 0.0032438181
B33: Transferência de Saída | E33: 0 | G33: =E33/$E$35 -> 0
B34: Acordo | E34: 0 | G34: =E34/$E$35 -> 0
B35: Total | E35: =SUM(E26:E34) -> 18805 | H35: =SUM(H25:H34) -> 1
B36: Indicadores
B37: Estoque Base para Recuperação: 01/01/2021 | E37: 0
B38: Estoque Recuperado Início do Período (01/01/2019) | E38: 0
B39: Estoque Recuperado Final do Período (31/12/2019) | E39: 2394
B40: Variação Emprego Absoluta de 01/01/2019 a 31/12/2019 | E40: 2394
B43: Nota: Quando marcada a opção "Considerar Acertos", as informações dos últimos doze meses contemplam as declarações fora do prazo, exceto o último mês disponível, estando sujeitas a alterações.

Sheet DECLARAÇÕES RELATIVAS À PLANILH
A3: DECLARAÇÕES QUE A EMPRESA LICITANTE DEVE FAZER:
A4: A empresa é optante pelo seguinte regime de tributação e recolhe, atualmente, as seguintes alíquotas de tributos:
A5: ( ) a) Lucro presumido, recolhendo: Cofins ( %); Pis ( %); IRPJ ( %); CSLL ( %). Após contratar com a prefeitura manterá estas alíquotas; (caso ocorrer alteração nas alíquotas, as mesmas serão as seguintes .......
A6: ( ) b) Lucro real, recolhendo: Cofins ( %); Pis ( %); IRPJ ( %); CSLL ( %). Após contratar com a prefeitura manterá estas alíquotas; (caso ocorrer alteração nas alíquotas, as mesmas serão as seguintes .......
A7: ( ) c) Simples Nacional: Após assinatura do contrato a empresa se descredenciará do Simples Nacional e passará para a tributação do ( ) LUCRO PRESUMIDO ou ( ) LUCRO REAL.
A9: Observação:
A10: Cada empresa é responsável por incluir em sua planilha de custos, os enquadramentos tributários, trabalhistas e previdenciários, de acordo com a realidade tributária e funcional de seu quadro de funcionários. Desta forma, a planilha de custos disponibilizada pela prefeitura representa, apenas, um MODELO REFERENCIAL, e que impõe um limite máximo de valores para a proposta apresentada.
A11: Destaca-se, que cada empresa possui a sua realidade tributária e funcional, o município não tem como prever todas as possibilidades de enquadramento funcionais, que são baseadas em acordos sindicais e na legislação trabalhista como um todo.
A12: Além disso, para cada cargo ou ambiente de trabalho funcional, alteram-se as condições e enquadramentos, como por exemplo: de insalubridade e EPI (depende do laudo de condições ambientais de trabalho para cada cargo e para cada local de trabalho); Situação de enquadramento tributária e previdenciária (se a empresa é optante pelo simples nacional, lucro presumido ou lucro real);
A13: Por fim, as condições e regras de trabalho também são disciplinadas pelos acordos coletivos de trabalho, os quais, a empresa deve observar.
A14: Portanto, baseado nestes aspectos, cabe a empresa identificar quais os enquadramentos trabalhistas e tributários corretos para a situação licitada. Ao final do pleito licitatório, ou mesmo, no decorrer da execução contratual, se o município verificar, por meio de recursos à licitação ou denúncias recebidas durante a execução contratual, que no momento da elaboração da proposta e da planilha de custos final, a empresa apresentou um item de custos (na planilha de custos final) diferente do que é exigido na convenção coletiva sindical ou em qualquer legislação trabalhista, visando reduzir o valor de sua proposta financeira, o município poderá considerar tal fato, como uso de má fé por parte da empresa.
A15: Assim, com esta prova de má fé por parte do licitante, o município poderá desabilitar a empresa durante o processo licitatório, ou mesmo, rescindir o contrato em vigor, pelo bem do serviço público.
