Workbook
Name Excel_BuiltIn_Print_Area: Publicar!$A$1:$K$31

Sheet Adão
A9: RELATÓRIO DE DESPESA ANUAL – 2025
A10: Gabinete do Vereador Adão Valcir Teodoro
A12: Item | B12: Jan | C12: Fev | D12: Mar | E12: Abr | F12: Mai | G12: Jun | H12: Jul | I12: Ago | J12: Set | K12: Out | L12: Nov | M12: Dez | N12: Média | O12: Total
A13: Materiais de Expediente | B13: 54.36 | C13: 1.88 | O13: =SUM(B13:N13) -> 56.24
A14: Correspondências | O14: =SUM(B14:N14) -> 0
A15: Fotocópias | B15: 25.56 | C15: 21.87 | O15: =SUM(B15:N15) -> 47.43
A16: Telefonia Móvel | O16: =SUM(B16:N16) -> 0
A17: Telefonia Fixa | O17: =SUM(B17:N17) -> 0
A18: Inscrições em Cursos e Similares | C18: 747 | O18: =SUM(B18:N18) -> 747
A19: Passagens e Combustíveis | C19: 5467.57 | O19: =SUM(B19:N19) -> 5467.57
A20: Diárias | C20: 5514.44 | O20: =SUM(B20:N20) -> 5514.44
A21: TOTAL | B21: =SUM(B13:B20) -> 79.92 | C21: =SUM(C13:C20) -> 11752.76 | D21: =SUM(D13:D20) -> 0 | E21: =SUM(E13:E20) -> 0 | F21: =SUM(F13:F20) -> 0 | G21: =SUM(G13:G20) -> 0 | H21: =SUM(H13:H20) -> 0 | I21: =SUM(I13:I20) -> 0 | ... O21: =SUM(O13:O20) -> 11832.68

Sheet Aderbal
A9: RELATÓRIO DE DESPESA ANUAL – 2025
A10: Gabinete do Vereador Aderbal Pedroso da Silva
A12: Item | B12: Jan | C12: Fev | D12: Mar | E12: Abr | F12: Mai | G12: Jun | H12: Jul | I12: Ago | J12: Set | K12: Out | L12: Nov | M12: Dez | N12: Média | O12: Total
A13: Materiais de Expediente | C13: 21.41 | O13: =SUM(B13:N13) -> 21.41
A14: Correspondências | O14: =SUM(B14:N14) -> 0
A15: Fotocópias | B15: 6.93 | C15: 20.52 | O15: =SUM(B15:N15) -> 27.45
A16: Telefonia Móvel | O16: =SUM(B16:N16) -> 0
A17: Telefonia Fixa | O17: =SUM(B17:N17) -> 0
A18: Inscrições em Cursos e Similares | O18: =SUM(B18:N18) -> 0
A19: Passagens e Combustíveis | O19: =SUM(B19:N19) -> 0
A20: Diárias | O20: =SUM(B20:N20) -> 0
A21: TOTAL | B21: =SUM(B13:B20) -> 6.93 | C21: =SUM(C13:C20) -> 41.93 | D21: =SUM(D13:D20) -> 0 | E21: =SUM(E13:E20) -> 0 | F21: =SUM(F13:F20) -> 0 | G21: =SUM(G13:G20) -> 0 | H21: =SUM(H13:H20) -> 0 | I21: =SUM(I13:I20) -> 0 | ... O21: =SUM(O13:O20) -> 48.86

Sheet Kovaleski
A9: RELATÓRIO DE DESPESA ANUAL – 2025
A10: Gabinete do Vereador André Caetano Kovaleski
A12: Item | B12: Jan | C12: Fev | D12: Mar | E12: Abr | F12: Mai | G12: Jun | H12: Jul | I12: Ago | J12: Set | K12: Out | L12: Nov | M12: Dez | N12: Média | O12: Total
A13: Materiais de Expediente | B13: 85.63 | O13: =SUM(B13:N13) -> 85.63
A14: Correspondências | O14: =SUM(B14:N14) -> 0
A15: Fotocópias | B15: 17.91 | C15: 58.77 | O15: =SUM(B15:N15) -> 76.68
A16: Telefonia Móvel | O16: =SUM(B16:N16) -> 0
A17: Telefonia Fixa | O17: =SUM(B17:N17) -> 0
A18: Inscrições em Cursos e Similares | O18: =SUM(B18:N18) -> 0
A19: Passagens e Combustíveis | B19: 4255.8 | O19: =SUM(B19:N19) -> 4255.8
A20: Diárias | B20: 700.25 | O20: =SUM(B20:N20) -> 700.25
A21: TOTAL | B21: =SUM(B13:B20) -> 5059.59 | C21: =SUM(C13:C20) -> 58.77 | D21: =SUM(D13:D20) -> 0 | E21: =SUM(E13:E20) -> 0 | F21: =SUM(F13:F20) -> 0 | G21: =SUM(G13:G20) -> 0 | H21: =SUM(H13:H20) -> 0 | I21: =SUM(I13:I20) -> 0 | ... O21: =SUM(O13:O20) -> 5118.36

Sheet Valduga
A9: RELATÓRIO DE DESPESA ANUAL – 2025
A10: Gabinete do Vereador Cezar Antonio Valduga
A12: Item | B12: Jan | C12: Fev | D12: Mar | E12: Abr | F12: Mai | G12: Jun | H12: Jul | I12: Ago | J12: Set | K12: Out | L12: Nov | M12: Dez | N12: Média | O12: Total
A13: Materiais de Expediente | C13: 14.68 | O13: =SUM(B13:N13) -> 14.68
A14: Correspondências | O14: =SUM(B14:N14) -> 0
A15: Fotocópias | B15: 5.13 | C15: 40.59 | O15: =SUM(B15:N15) -> 45.72
A16: Telefonia Móvel | O16: =SUM(B16:N16) -> 0
A17: Telefonia Fixa | O17: =SUM(B17:N17) -> 0
A18: Inscrições em Cursos e Similares | O18: =SUM(B18:N18) -> 0
A19: Passagens e Combustíveis | O19: =SUM(B19:N19) -> 0
A20: Diárias | O20: =SUM(B20:N20) -> 0
A21: TOTAL | B21: =SUM(B13:B20) -> 5.13 | C21: =SUM(C13:C20) -> 55.27 | D21: =SUM(D13:D20) -> 0 | E21: =SUM(E13:E20) -> 0 | F21: =SUM(F13:F20) -> 0 | G21: =SUM(G13:G20) -> 0 | H21: =SUM(H13:H20) -> 0 | I21: =SUM(I13:I20) -> 0 | ... O21: =SUM(O13:O20) -> 60.4

Sheet Claudair
A9: RELATÓRIO DE DESPESA ANUAL – 2025
A10: Gabinete do Vereador Claudir Sanzovo
A12: Item | B12: Jan | C12: Fev | D12: Mar | E12: Abr | F12: Mai | G12: Jun | H12: Jul | I12: Ago | J12: Set | K12: Out | L12: Nov | M12: Dez | N12: Média | O12: Total
A13: Materiais de Expediente | B13: 21.41 | O13: =SUM(B13:N13) -> 21.41
A14: Correspondências | O14: =SUM(B14:N14) -> 0
A15: Fotocópias | B15: 1.17 | C15: 40.59 | O15: =SUM(B15:N15) -> 41.76
A16: Telefonia Móvel | O16: =SUM(B16:N16) -> 0
A17: Telefonia Fixa | O17: =SUM(B17:N17) -> 0
A18: Inscrições em Cursos e Similares | C18: 747 | O18: =SUM(B18:N18) -> 747
A19: Passagens e Combustíveis | C19: 6585.32 | O19: =SUM(B19:N19) -> 6585.32
A20: Diárias | C20: 5514.44 | O20: =SUM(B20:N20) -> 5514.44
A21: TOTAL | B21: =SUM(B13:B20) -> 22.58 | C21: =SUM(C13:C20) -> 12887.35 | D21: =SUM(D13:D20) -> 0 | E21: =SUM(E13:E20) -> 0 | F21: =SUM(F13:F20) -> 0 | G21: =SUM(G13:G20) -> 0 | H21: =SUM(H13:H20) -> 0 | I21: =SUM(I13:I20) -> 0 | ... O21: =SUM(O13:O20) -> 12909.93

Sheet Clair
A9: RELATÓRIO DE DESPESA ANUAL – 2025
A10: Gabinete do Vereador Clair André Pagnussat
A12: Item | B12: Jan | C12: Fev | D12: Mar | E12: Abr | F12: Mai | G12: Jun | H12: Jul | I12: Ago | J12: Set | K12: Out | L12: Nov | M12: Dez | N12: Média | O12: Total
A13: Materiais de Expediente | B13: 84.57 | O13: =SUM(B13:N13) -> 84.57
A14: Correspondências | O14: =SUM(B14:N14) -> 0
A15: Fotocópias | B15: 13.23 | C15: 30.33 | O15: =SUM(B15:N15) -> 43.56
A16: Telefonia Móvel | O16: =SUM(B16:N16) -> 0
A17: Telefonia Fixa | O17: =SUM(B17:N17) -> 0
A18: Inscrições em Cursos e Similares | C18: 0 | O18: =SUM(B18:N18) -> 0
A19: Passagens e Combustíveis | C19: 0 | O19: =SUM(B19:N19) -> 0
A20: Diárias | C20: 1925.69 | O20: =SUM(B20:N20) -> 1925.69
A21: TOTAL | B21: =SUM(B13:B20) -> 97.8 | C21: =SUM(C13:C20) -> 1956.02 | D21: =SUM(D13:D20) -> 0 | E21: =SUM(E13:E20) -> 0 | F21: =SUM(F13:F20) -> 0 | G21: =SUM(G13:G20) -> 0 | H21: =SUM(H13:H20) -> 0 | I21: =SUM(I13:I20) -> 0 | ... O21: =SUM(O13:O20) -> 2053.82
A23: *Licenciou-se por tempo indeterminado, a partir do dia 14/05/2019 - assumiu o cargo de Superintendente da Região da Efapi.

Sheet Claimar
A9: RELATÓRIO DE DESPESA ANUAL – 2025
A10: Gabinete do Vereador Clamair de Conto
A12: Item | B12: Jan | C12: Fev | D12: Mar | E12: Abr | F12: Mai | G12: Jun | H12: Jul | I12: Ago | J12: Set | K12: Out | L12: Nov | M12: Dez | N12: Média | O12: Total
A13: Materiais de Expediente | B13: 46.61 | C13: 21.41 | O13: =SUM(B13:N13) -> 68.02
A14: Correspondências | O14: =SUM(B14:N14) -> 0
A15: Fotocópias | B15: 26.46 | C15: 36.54 | O15: =SUM(B15:N15) -> 63
A16: Telefonia Móvel | O16: =SUM(B16:N16) -> 0
A17: Telefonia Fixa | O17: =SUM(B17:N17) -> 0
A18: Inscrições em Cursos e Similares | C18: 747 | O18: =SUM(B18:N18) -> 747
A19: Passagens e Combustíveis | C19: 5204.18 | O19: =SUM(B19:N19) -> 5204.18
A20: Diárias | C20: 5514.44 | O20: =SUM(B20:N20) -> 5514.44
A21: TOTAL | B21: =SUM(B13:B20) -> 73.07 | C21: =SUM(C13:C20) -> 11523.57 | D21: =SUM(D13:D20) -> 0 | E21: =SUM(E13:E20) -> 0 | F21: =SUM(F13:F20) -> 0 | G21: =SUM(G13:G20) -> 0 | H21: =SUM(H13:H20) -> 0 | I21: =SUM(I13:I20) -> 0 | ... O21: =SUM(O13:O20) -> 11596.64

Sheet Cleber
A9: RELATÓRIO DE DESPESA ANUAL – 2025
A10: Gabinete do Vereador Cleber Fossá
A12: Item | B12: Jan | C12: Fev | D12: Mar | E12: Abr | F12: Mai | G12: Jun | H12: Jul | I12: Ago | J12: Set | K12: Out | L12: Nov | M12: Dez | N12: Média | O12: Total
A13: Materiais de Expediente | O13: =SUM(B13:N13) -> 0
A14: Correspondências | O14: =SUM(B14:N14) -> 0
A15: Fotocópias | B15: 7.74 | C15: 13.95 | O15: =SUM(B15:N15) -> 21.69
A16: Telefonia Móvel | O16: =SUM(B16:N16) -> 0
A17: Telefonia Fixa | O17: =SUM(B17:N17) -> 0
A18: Inscrições em Cursos e Similares | O18: =SUM(B18:N18) -> 0
A19: Passagens e Combustíveis | O19: =SUM(B19:N19) -> 0
A20: Diárias | O20: =SUM(B20:N20) -> 0
A21: TOTAL | B21: =SUM(B13:B20) -> 7.74 | C21: =SUM(C13:C20) -> 13.95 | D21: =SUM(D13:D20) -> 0 | E21: =SUM(E13:E20) -> 0 | F21: =SUM(F13:F20) -> 0 | G21: =SUM(G13:G20) -> 0 | H21: =SUM(H13:H20) -> 0 | I21: =SUM(I13:I20) -> 0 | ... O21: =SUM(O13:O20) -> 21.69

Sheet Cleiton
A9: RELATÓRIO DE DESPESA ANUAL – 2025
A10: Gabinete do Vereador Cleiton Cesar Agnoletto
A12: Item | B12: Jan | C12: Fev | D12: Mar | E12: Abr | F12: Mai | G12: Jun | H12: Jul | I12: Ago | J12: Set | K12: Out | L12: Nov | M12: Dez | N12: Média | O12: Total
A13: Materiais de Expediente | B13: 18.42 | C13: 39.67 | O13: =SUM(B13:N13) -> 58.09
A14: Correspondências | O14: =SUM(B14:N14) -> 0
A15: Fotocópias | B15: 19.08 | C15: 49.77 | O15: =SUM(B15:N15) -> 68.85
A16: Telefonia Móvel | O16: =SUM(B16:N16) -> 0
A17: Telefonia Fixa | O17: =SUM(B17:N17) -> 0
A18: Inscrições em Cursos e Similares | O18: =SUM(B18:N18) -> 0
A19: Passagens e Combustíveis | O19: =SUM(B19:N19) -> 0
A20: Diárias | O20: =SUM(B20:N20) -> 0
A21: TOTAL | B21: =SUM(B13:B20) -> 37.5 | C21: =SUM(C13:C20) -> 89.44 | D21: =SUM(D13:D20) -> 0 | E21: =SUM(E13:E20) -> 0 | F21: =SUM(F13:F20) -> 0 | G21: =SUM(G13:G20) -> 0 | H21: =SUM(H13:H20) -> 0 | I21: =SUM(I13:I20) -> 0 | ... O21: =SUM(O13:O20) -> 126.94

Sheet Dalvino
A9: RELATÓRIO DE DESPESA ANUAL – 2025
A10: Gabinete do Vereador Dalvino Ferrari
A12: Item | B12: Jan | C12: Fev | D12: Mar | E12: Abr | F12: Mai | G12: Jun | H12: Jul | I12: Ago | J12: Set | K12: Out | L12: Nov | M12: Dez | N12: Média | O12: Total
A13: Materiais de Expediente | B13: 98.24 | C13: 21.41 | O13: =SUM(B13:N13) -> 119.65
A14: Correspondências | O14: =SUM(B14:N14) -> 0
A15: Fotocópias | B15: 4.95 | C15: 6.39 | O15: =SUM(B15:N15) -> 11.34
A16: Telefonia Móvel | O16: =SUM(B16:N16) -> 0
A17: Telefonia Fixa | O17: =SUM(B17:N17) -> 0
A18: Inscrições em Cursos e Similares | O18: =SUM(B18:N18) -> 0
A19: Passagens e Combustíveis | O19: =SUM(B19:N19) -> 0
A20: Diárias | O20: =SUM(B20:N20) -> 0
A21: TOTAL | B21: =SUM(B13:B20) -> 103.19 | C21: =SUM(C13:C20) -> 27.8 | D21: =SUM(D13:D20) -> 0 | E21: =SUM(E13:E20) -> 0 | F21: =SUM(F13:F20) -> 0 | G21: =SUM(G13:G20) -> 0 | H21: =SUM(H13:H20) -> 0 | I21: =SUM(I13:I20) -> 0 | ... O21: =SUM(O13:O20) -> 130.99

Sheet Deise
A9: RELATÓRIO DE DESPESA ANUAL – 2025
A10: Gabinete do Vereador Deise Imara Schilke
A12: Item | B12: Jan | C12: Fev | D12: Mar | E12: Abr | F12: Mai | G12: Jun | H12: Jul | I12: Ago | J12: Set | K12: Out | L12: Nov | M12: Dez | N12: Média | O12: Total
A13: Materiais de Expediente | B13: 13 | O13: =SUM(B13:N13) -> 13
A14: Correspondências | O14: =SUM(B14:N14) -> 0
A15: Fotocópias | B15: 25.02 | C15: 47.01 | O15: =SUM(B15:N15) -> 72.03
A16: Telefonia Móvel | O16: =SUM(B16:N16) -> 0
A17: Telefonia Fixa | O17: =SUM(B17:N17) -> 0
A18: Inscrições em Cursos e Similares | O18: =SUM(B18:N18) -> 0
A19: Passagens e Combustíveis | O19: =SUM(B19:N19) -> 0
A20: Diárias | O20: =SUM(B20:N20) -> 0
A21: TOTAL | B21: =SUM(B13:B20) -> 38.02 | C21: =SUM(C13:C20) -> 47.01 | D21: =SUM(D13:D20) -> 0 | E21: =SUM(E13:E20) -> 0 | F21: =SUM(F13:F20) -> 0 | G21: =SUM(G13:G20) -> 0 | H21: =SUM(H13:H20) -> 0 | I21: =SUM(I13:I20) -> 0 | ... O21: =SUM(O13:O20) -> 85.03

Sheet Neuri
A9: RELATÓRIO DE DESPESA ANUAL – 2025
A10: Gabinete do Vereador Neuri Mantelli
A12: Item | B12: Jan | C12: Fev | D12: Mar | E12: Abr | F12: Mai | G12: Jun | H12: Jul | I12: Ago | J12: Set | K12: Out | L12: Nov | M12: Dez | N12: Média | O12: Total
A13: Materiais de Expediente | C13: 21.91 | O13: =SUM(B13:N13) -> 21.91
A14: Correspondências | O14: =SUM(B14:N14) -> 0
A15: Fotocópias | B15: 10.62 | C15: 32.22 | O15: =SUM(B15:N15) -> 42.84
A16: Telefonia Móvel | O16: =SUM(B16:N16) -> 0
A17: Telefonia Fixa | O17: =SUM(B17:N17) -> 0
A18: Inscrições em Cursos e Similares | O18: =SUM(B18:N18) -> 0
A19: Passagens e Combustíveis | O19: =SUM(B19:N19) -> 0
A20: Diárias | O20: =SUM(B20:N20) -> 0
A21: TOTAL | B21: =SUM(B13:B20) -> 10.62 | C21: =SUM(C13:C20) -> 54.13 | D21: =SUM(D13:D20) -> 0 | E21: =SUM(E13:E20) -> 0 | F21: =SUM(F13:F20) -> 0 | G21: =SUM(G13:G20) -> 0 | H21: =SUM(H13:H20) -> 0 | I21: =SUM(I13:I20) -> 0 | ... O21: =SUM(O13:O20) -> 64.75
A22: *Tomou Posse em 24.02.2023
A23: Vereador Titular Neuri Mantelli

Sheet Ediane 
A9: RELATÓRIO DE DESPESA ANUAL – 2025
A10: Gabinete da Vereadora Ediane Aparecida Folle
A12: Item | B12: Jan | C12: Fev | D12: Mar | E12: Abr | F12: Mai | G12: Jun | H12: Jul | I12: Ago | J12: Set | K12: Out | L12: Nov | M12: Dez | N12: Média | O12: Total
A13: Materiais de Expediente | B13: 42.81 | C13: 216.73 | O13: =SUM(B13:N13) -> 259.54
A14: Correspondências | O14: =SUM(B14:N14) -> 0
A15: Fotocópias | B15: 8.1 | C15: 75.78 | O15: =SUM(B15:N15) -> 83.88
A16: Telefonia Móvel | O16: =SUM(B16:N16) -> 0
A17: Telefonia Fixa | O17: =SUM(B17:N17) -> 0
A18: Inscrições em Cursos e Similares | O18: =SUM(B18:N18) -> 0
A19: Passagens e Combustíveis | O19: =SUM(B19:N19) -> 0
A20: Diárias | O20: =SUM(B20:N20) -> 0
A21: TOTAL | B21: =SUM(B13:B20) -> 50.91 | C21: =SUM(C13:C20) -> 292.51 | D21: =SUM(D13:D20) -> 0 | E21: =SUM(E13:E20) -> 0 | F21: =SUM(F13:F20) -> 0 | G21: =SUM(G13:G20) -> 0 | H21: =SUM(H13:H20) -> 0 | I21: =SUM(I13:I20) -> 0 | ... N21: =SUM(N13:N20) -> 0 | O21: =SUM(B21:N21) -> 343.42

Sheet Fernando
A9: RELATÓRIO DE DESPESA ANUAL – 2025
A10: Gabinete do Vereador Fernando Cordeiro dos Santos
A12: Item | B12: Jan | C12: Fev | D12: Mar | E12: Abr | F12: Mai | G12: Jun | H12: Jul | I12: Ago | J12: Set | K12: Out | L12: Nov | M12: Dez | N12: Média | O12: Total
A13: Materiais de Expediente | B13: 48.22 | C13: 26.21 | O13: =SUM(B13:N13) -> 74.43
A14: Correspondências | O14: =SUM(B14:N14) -> 0
A15: Fotocópias | B15: 27.73 | C15: 62.82 | O15: =SUM(B15:N15) -> 90.55
A16: Telefonia Móvel | O16: =SUM(B16:N16) -> 0
A17: Telefonia Fixa | O17: =SUM(B17:N17) -> 0
A18: Inscrições em Cursos e Similares | O18: =SUM(B18:N18) -> 0
A19: Passagens e Combustíveis | B19: 4255.8 | O19: =SUM(B19:N19) -> 4255.8
A20: Diárias | B20: 700.25 | O20: =SUM(B20:N20) -> 700.25
A21: TOTAL | B21: =SUM(B13:B20) -> 5032 | C21: =SUM(C13:C20) -> 89.03 | D21: =SUM(D13:D20) -> 0 | E21: =SUM(E13:E20) -> 0 | F21: =SUM(F13:F20) -> 0 | G21: =SUM(G13:G20) -> 0 | H21: =SUM(H13:H20) -> 0 | I21: =SUM(I13:I20) -> 0 | ... O21: =SUM(O13:O20) -> 5121.03

Sheet Nivaldo 
A9: RELATÓRIO DE DESPESA ANUAL – 2025
A10: Gabinete do Vereador Nivaldo Augusto Rosa
A12: Item | B12: Jan | C12: Fev | D12: Mar | E12: Abr | F12: Mai | G12: Jun | H12: Jul | I12: Ago | J12: Set | K12: Out | L12: Nov | M12: Dez | N12: Total
A13: Materiais de Expediente | B13: 80.09 | N13: =SUM(B13:M13) -> 80.09
A14: Correspondências | N14: =SUM(B14:M14) -> 0
A15: Fotocópias | B15: 18 | C15: 41.04 | N15: =SUM(B15:M15) -> 59.04
A16: Telefonia Móvel | N16: =SUM(B16:M16) -> 0
A17: Telefonia Fixa | N17: =SUM(B17:M17) -> 0
A18: Inscrições em Cursos e Similares | N18: =SUM(B18:M18) -> 0
A19: Passagens e Combustíveis | C19: 1782.42 | N19: =SUM(B19:M19) -> 1782.42
A20: Diárias | B20: 0 | C20: 2567.58 | D20: 0 | E20: 0 | F20: 0 | G20: 0 | H20: 0 | I20: 0 | J20: 0 | K20: 0 | L20: 0 | M20: 0 | N20: =SUM(B20:M20) -> 2567.58
A21: TOTAL | B21: =SUM(B13:B20) -> 98.09 | C21: =SUM(C13:C20) -> 4391.04 | D21: =SUM(D13:D20) -> 0 | E21: =SUM(E13:E20) -> 0 | F21: =SUM(F13:F20) -> 0 | G21: =SUM(G13:G20) -> 0 | H21: =SUM(H13:H20) -> 0 | I21: =SUM(I13:I20) -> 0 | ... N21: =SUM(N13:N20) -> 4489.13

Sheet João R
A9: RELATÓRIO DE DESPESA ANUAL – 2025
A10: Gabinete do Vereador João Maria Marques Rosa
A12: Item | B12: Jan | C12: Fev | D12: Mar | E12: Abr | F12: Mai | G12: Jun | H12: Jul | I12: Ago | J12: Set | K12: Out | L12: Nov | M12: Dez | N12: Média | O12: Total
A13: Materiais de Expediente | B13: 125.83 | O13: =SUM(B13:N13) -> 125.83
A14: Correspondências | O14: =SUM(B14:N14) -> 0
A15: Fotocópias | B15: 45.83 | C15: 84.42 | O15: =SUM(B15:N15) -> 130.25
A16: Telefonia Móvel | O16: =SUM(B16:N16) -> 0
A17: Telefonia Fixa | O17: =SUM(B17:N17) -> 0
A18: Inscrições em Cursos e Similares | O18: =SUM(B18:N18) -> 0
A19: Passagens e Combustíveis | O19: =SUM(B19:N19) -> 0
A20: Diárias | O20: =SUM(B20:N20) -> 0
A21: TOTAL | B21: =SUM(B13:B20) -> 171.66 | C21: =SUM(C13:C20) -> 84.42 | D21: =SUM(D13:D20) -> 0 | E21: =SUM(E13:E20) -> 0 | F21: =SUM(F13:F20) -> 0 | G21: =SUM(G13:G20) -> 0 | H21: =SUM(H13:H20) -> 0 | I21: =SUM(I13:I20) -> 0 | ... O21: =SUM(O13:O20) -> 256.08

Sheet Marcilei
A9: RELATÓRIO DE DESPESA ANUAL – 2025
A10: Gabinete da Vereadora Marcilei Andrea Pezenatto Vignatti
A12: Item | B12: Jan | C12: Fev | D12: Mar | E12: Abr | F12: Mai | G12: Jun | H12: Jul | I12: Ago | J12: Set | K12: Out | L12: Nov | M12: Dez | N12: Média | O12: Total
A13: Materiais de Expediente | B13: 134.76 | C13: 20 | O13: =SUM(B13:N13) -> 154.76
A14: Correspondências | O14: =SUM(B14:N14) -> 0
A15: Fotocópias | B15: 45.9 | C15: 101.26 | O15: =SUM(B15:N15) -> 147.16
A16: Telefonia Móvel | O16: =SUM(B16:N16) -> 0
A17: Telefonia Fixa | O17: =SUM(B17:N17) -> 0
A18: Inscrições em Cursos e Similares | O18: =SUM(B18:N18) -> 0
A19: Passagens e Combustíveis | O19: =SUM(B19:N19) -> 0
A20: Diárias | O20: =SUM(B20:N20) -> 0
A21: TOTAL | B21: =SUM(B13:B20) -> 180.66 | C21: =SUM(C13:C20) -> 121.26 | D21: =SUM(D13:D20) -> 0 | E21: =SUM(E13:E20) -> 0 | F21: =SUM(F13:F20) -> 0 | G21: =SUM(G13:G20) -> 0 | H21: =SUM(H13:H20) -> 0 | I21: =SUM(I13:I20) -> 0 | ... O21: =SUM(O13:O20) -> 301.92
A23: *Licenciou-se entre 15/07/2019 a 15/09/2019

Sheet Elisiani
A9: RELATÓRIO DE DESPESA ANUAL – 2025
A10: Gabinete da Vereadora Elisiani Schmidt Sanches
A12: Item | B12: Jan | C12: Fev | D12: Mar | E12: Abr | F12: Mai | G12: Jun | H12: Jul | I12: Ago | J12: Set | K12: Out | L12: Nov | M12: Dez | N12: Média | O12: Total
A13: Materiais de Expediente | B13: 124.62 | C13: 48.93 | O13: =SUM(B13:N13) -> 173.55
A14: Correspondências | O14: =SUM(B14:N14) -> 0
A15: Fotocópias | B15: 12.51 | C15: 23.58 | O15: =SUM(B15:N15) -> 36.09
A16: Telefonia Móvel | O16: =SUM(B16:N16) -> 0
A17: Telefonia Fixa | O17: =SUM(B17:N17) -> 0
A18: Inscrições em Cursos e Similares | O18: =SUM(B18:N18) -> 0
A19: Passagens e Combustíveis | O19: =SUM(B19:N19) -> 0
A20: Diárias | O20: =SUM(B20:N20) -> 0
A21: TOTAL | B21: =SUM(B13:B20) -> 137.13 | C21: =SUM(C13:C20) -> 72.51 | D21: =SUM(D13:D20) -> 0 | E21: =SUM(E13:E20) -> 0 | F21: =SUM(F13:F20) -> 0 | G21: =SUM(G13:G20) -> 0 | H21: =SUM(H13:H20) -> 0 | I21: =SUM(I13:I20) -> 0 | ... O21: =SUM(O13:O20) -> 209.64

Sheet Valdemir
A9: RELATÓRIO DE DESPESA ANUAL – 2025
A10: Gabinete do Vereador Valdemir Antonio Stobe
A12: Item | B12: Jan | C12: Fev | D12: Mar | E12: Abr | F12: Mai | G12: Jun | H12: Jul | I12: Ago | J12: Set | K12: Out | L12: Nov | M12: Dez | N12: Média | O12: Total
A13: Materiais de Expediente | B13: 39.1 | C13: 84.22 | O13: =SUM(B13:N13) -> 123.32
A14: Correspondências | C14: 4.1 | O14: =SUM(B14:N14) -> 4.1
A15: Fotocópias | B15: 41.13 | C15: 114.48 | O15: =SUM(B15:N15) -> 155.61
A16: Telefonia Móvel | O16: =SUM(B16:N16) -> 0
A17: Telefonia Fixa | O17: =SUM(B17:N17) -> 0
A18: Inscrições em Cursos e Similares | N18: =SUM(B18:M18)/12 -> 0 | O18: =SUM(B18:N18) -> 0
A19: Passagens e Combustíveis | B19: 0 | C19: 0 | D19: 0 | E19: 0 | F19: 0 | G19: 0 | H19: 0 | I19: 0 | J19: 0 | K19: 0 | L19: 0 | M19: 0 | N19: =SUM(B19:M19)/12 -> 0 | O19: =SUM(B19:N19) -> 0
A20: Diárias | B20: 0 | C20: 0 | D20: 0 | E20: 0 | F20: 0 | G20: 0 | H20: 0 | I20: 0 | J20: 0 | K20: 0 | L20: 0 | M20: 0 | N20: =SUM(B20:M20)/12 -> 0 | O20: =SUM(B20:N20) -> 0
A21: TOTAL | B21: =SUM(B13:B20) -> 80.23 | C21: =SUM(C13:C20) -> 202.8 | D21: =SUM(D13:D20) -> 0 | E21: =SUM(E13:E20) -> 0 | F21: =SUM(F13:F20) -> 0 | G21: =SUM(G13:G20) -> 0 | H21: =SUM(H13:H20) -> 0 | I21: =SUM(I13:I20) -> 0 | ... O21: =SUM(O13:O20) -> 283.03

Sheet Paulinho
A9: RELATÓRIO DE DESPESA ANUAL – 2025
A10: Gabinete do Vereador Valdir Smael Carvalho
A12: Item | B12: Jan | C12: Fev | D12: Mar | E12: Abr | F12: Mai | G12: Jun | H12: Jul | I12: Ago | J12: Set | K12: Out | L12: Nov | M12: Dez | N12: Média | O12: Total
A13: Materiais de Expediente | C13: 8.8 | O13: =SUM(B13:N13) -> 8.8
A14: Correspondências | O14: =SUM(B14:N14) -> 0
A15: Fotocópias | B15: 44.37 | C15: 34.02 | O15: =SUM(B15:N15) -> 78.39
A16: Telefonia Móvel | O16: =SUM(B16:N16) -> 0
A17: Telefonia Fixa | O17: =SUM(B17:N17) -> 0
A18: Inscrições em Cursos e Similares | O18: =SUM(B18:N18) -> 0
A19: Passagens e Combustíveis | O19: =SUM(B19:N19) -> 0
A20: Diárias | O20: =SUM(B20:N20) -> 0
A21: TOTAL | B21: =SUM(B13:B20) -> 44.37 | C21: =SUM(C13:C20) -> 42.82 | D21: =SUM(D13:D20) -> 0 | E21: =SUM(E13:E20) -> 0 | F21: =SUM(F13:F20) -> 0 | G21: =SUM(G13:G20) -> 0 | H21: =SUM(H13:H20) -> 0 | I21: =SUM(I13:I20) -> 0 | ... O21: =SUM(O13:O20) -> 87.19

Sheet Cidrão
A9: RELATÓRIO DE DESPESA ANUAL – 2025
A10: Gabinete do Vereador Wilson Junior Cidrão
A12: Item | B12: Jan | C12: Fev | D12: Mar | E12: Abr | F12: Mai | G12: Jun | H12: Jul | I12: Ago | J12: Set | K12: Out | L12: Nov | M12: Dez | N12: Média | O12: Total
A13: Materiais de Expediente | O13: =SUM(B13:N13) -> 0
A14: Correspondências | O14: =SUM(B14:N14) -> 0
A15: Fotocópias | B15: 9.72 | C15: 10.98 | O15: =SUM(B15:N15) -> 20.7
A16: Telefonia Móvel | O16: =SUM(B16:N16) -> 0
A17: Telefonia Fixa | O17: =SUM(B17:N17) -> 0
A18: Inscrições em Cursos e Similares | O18: =SUM(B18:N18) -> 0
A19: Passagens e Combustíveis | O19: =SUM(B19:N19) -> 0
A20: Diárias | O20: =SUM(B20:N20) -> 0
A21: TOTAL | B21: =SUM(B13:B20) -> 9.72 | C21: =SUM(C13:C20) -> 10.98 | D21: =SUM(D13:D20) -> 0 | E21: =SUM(E13:E20) -> 0 | F21: =SUM(F13:F20) -> 0 | G21: =SUM(G13:G20) -> 0 | H21: =SUM(H13:H20) -> 0 | I21: =SUM(I13:I20) -> 0 | ... O21: =SUM(O13:O20) -> 20.7

Sheet Publicar
A5: 4. SISTEMA DE GERENCIAMENTO DE GABINETE PARLAMENTAR - SGGP
A6: JANEIRO A DEZEMBRO DE 2025
A7: Despesas / | B7: Mês / | C7: Mat. de | D7: Correios | E7: cópias | F7: Telefones | H7: Diárias | K7: Gastos | L7: Saldo
A8: Vereadores | B8: Posse | C8: Expediente | F8: Móvel | G8: Fixo | H8: Inscrições | I8: Passag./Des. | J8: Diárias | K8: Totais
A9: Adão V.Teodoro | B9: 01/25 | C9: ='Adão'!O13 -> 56.24 | D9: ='Adão'!O14 -> 0 | E9: ='Adão'!O15 -> 47.43 | F9: ='Adão'!O16 -> 0 | G9: ='Adão'!O17 -> 0 | H9: ='Adão'!O18 -> 747 | I9: ='Adão'!O19 -> 5467.57 | J9: ='Adão'!O20 -> 5514.44 | K9: =SUM(C9:J9) -> 11832.68 | L9: =43765.5-K9 -> 31932.82
A10: Aderbal Pedroso da Silva | B10: 01/25 | C10: =Aderbal!$O13 -> 21.41 | D10: =Aderbal!$O14 -> 0 | E10: =Aderbal!$O15 -> 27.45 | G10: =Aderbal!$O16 -> 0 | H10: =Aderbal!$O17 -> 0 | I10: =Aderbal!$O18 -> 0 | J10: =Aderbal!$O19 -> 0 | K10: =SUM(C10:J10) -> 48.86 | L10: =43765.5-K10 -> 43716.64
A11: André C. Kovaleski | B11: 01/25 | C11: =Kovaleski!$O13 -> 85.63 | D11: =Kovaleski!$O14 -> 0 | E11: =Kovaleski!$O15 -> 76.68 | F11: =Kovaleski!$O16 -> 0 | G11: =Kovaleski!$O17 -> 0 | H11: =Kovaleski!$O18 -> 0 | I11: =Kovaleski!$O19 -> 4255.8 | J11: =Kovaleski!$O20 -> 700.25 | K11: =SUM(C11:J11) -> 5118.36 | L11: =43765.5-K11 -> 38647.14
A12: André Pagnussat | B12: 01/25 | C12: =Clair!$O14 -> 0 | D12: =Clair!$O15 -> 43.56 | E12: =Clair!$O16 -> 0 | F12: =Clair!$O13 -> 84.57 | G12: =Clair!$O17 -> 0 | H12: =Clair!$O18 -> 0 | I12: =Clair!$O19 -> 0 | J12: =Clair!$O20 -> 1925.69 | K12: =SUM(C12:J12) -> 2053.82 | L12: =43765.5-K12 -> 41711.68
A13: Cezar A. Valduga | B13: 01/25 | C13: =Valduga!$O13 -> 14.68 | D13: =Valduga!$O14 -> 0 | E13: =Valduga!$O15 -> 45.72 | F13: =Valduga!$O16 -> 0 | G13: =Valduga!$O17 -> 0 | H13: =Valduga!$O18 -> 0 | I13: =Valduga!$O19 -> 0 | J13: =Valduga!$O20 -> 0 | K13: =SUM(C13:J13) -> 60.4 | L13: =43765.5-K13 -> 43705.1
A14: Claudir A. Sanzovo | B14: 01/25 | C14: =Claudair!$O13 -> 21.41 | D14: =Claudair!$O14 -> 0 | E14: =Claudair!$O15 -> 41.76 | F14: =Claudair!$O16 -> 0 | G14: =Claudair!$O17 -> 0 | H14: =Claudair!$O18 -> 747 | I14: =Claudair!$O19 -> 6585.32 | J14: =Claudair!$O20 -> 5514.44 | K14: =SUM(C14:J14) -> 12909.93 | L14: =43765.5-K14 -> 30855.57
A15: Claimar C. de Conto | B15: 01/25 | C15: =Claimar!$O13 -> 68.02 | D15: =Claimar!$O14 -> 0 | E15: =Claimar!$O15 -> 63 | G15: =Claimar!$O17 -> 0 | H15: =Claimar!$O18 -> 747 | I15: =Claimar!$O19 -> 5204.18 | J15: =Claimar!$O20 -> 5514.44 | K15: =SUM(C15:J15) -> 11596.64 | L15: =43765.5-K15 -> 32168.86
A16: Cleber Fossá | B16: 01/25 | C16: =Cleber!$O13 -> 0 | D16: =Cleber!$O14 -> 0 | E16: =Cleber!$O15 -> 21.69 | F16: =Cleber!$O16 -> 0 | G16: =Cleber!$O17 -> 0 | H16: =Cleber!$O18 -> 0 | I16: =Cleber!$O19 -> 0 | J16: =Cleber!$O20 -> 0 | K16: =SUM(C16:J16) -> 21.69 | L16: =43765.5-K16 -> 43743.81
A17: Cleiton C. Agnoletto | B17: 01/25 | C17: =Cleiton!$O13 -> 58.09 | D17: =Cleiton!$O14 -> 0 | E17: =Cleiton!$O15 -> 68.85 | G17: =Cleiton!$O16 -> 0 | H17: =Cleiton!$O17 -> 0 | I17: =Cleiton!$O18 -> 0 | J17: =Cleiton!$O19 -> 0 | K17: =SUM(C17:J17) -> 126.94 | L17: =43765.5-K17 -> 43638.56
A18: Dalvino Ferrari | B18: 01/25 | C18: =Dalvino!$O13 -> 119.65 | D18: =Dalvino!$O14 -> 0 | E18: =Dalvino!$O15 -> 11.34 | G18: =Dalvino!$O16 -> 0 | H18: =Dalvino!$O17 -> 0 | I18: =Dalvino!$O18 -> 0 | J18: =Dalvino!$O19 -> 0 | K18: =SUM(C18:J18) -> 130.99 | L18: =43765.5-K18 -> 43634.51
A19: Deise I. Schilke | B19: 01/25 | C19: =Deise!$O13 -> 13 | D19: =Deise!$O14 -> 0 | E19: =Deise!$O15 -> 72.03 | F19: =Deise!$O16 -> 0 | G19: =Deise!$O16 -> 0 | H19: =Deise!$O17 -> 0 | I19: =Deise!$O18 -> 0 | J19: =Deise!$O19 -> 0 | K19: =SUM(C19:J19) -> 85.03 | L19: =43765.5-K19 -> 43680.47
A20: Ediane Folle | B20: 01/25 | C20: ='Ediane '!$O13 -> 259.54 | D20: ='Ediane '!$O14 -> 0 | E20: ='Ediane '!$O15 -> 83.88 | F20: ='Ediane '!$O16 -> 0 | G20: ='Ediane '!$O17 -> 0 | H20: ='Ediane '!$O18 -> 0 | I20: ='Ediane '!$O19 -> 0 | J20: ='Ediane '!$O20 -> 0 | K20: =SUM(C20:J20) -> 343.42 | L20: =43765.5-K20 -> 43422.08
A21: Elisiani Sanches | B21: 01/25 | C21: =Elisiani!$O13 -> 173.55 | D21: =Elisiani!$O14 -> 0 | E21: =Elisiani!$O15 -> 36.09 | G21: =Elisiani!$O16 -> 0 | H21: =Elisiani!$O17 -> 0 | I21: =Elisiani!$O18 -> 0 | J21: =Elisiani!$O19 -> 0 | K21: =SUM(C21:J21) -> 209.64 | L21: =43765.5-K21 -> 43555.86
A22: Fernando C. dos Santos | B22: 01/25 | C22: =Fernando!$O13 -> 74.43 | D22: =Fernando!$O14 -> 0 | E22: =Fernando!$O15 -> 90.55 | F22: =Fernando!$O14 -> 0 | G22: =Fernando!$O17 -> 0 | H22: =Fernando!$O18 -> 0 | I22: =Fernando!$O19 -> 4255.8 | J22: =Fernando!$O20 -> 700.25 | K22: =SUM(C22:J22) -> 5121.03 | L22: =43765.5-K22 -> 38644.47
A23: João Maria M. Rosa | B23: 01/25 | C23: ='João R'!$O13 -> 125.83 | D23: ='João R'!$O14 -> 0 | E23: ='João R'!$O15 -> 130.25 | F23: ='João R'!$O17 -> 0 | G23: ='João R'!$O17 -> 0 | H23: ='João R'!$O18 -> 0 | I23: ='João R'!$O19 -> 0 | J23: ='João R'!$O20 -> 0 | K23: =SUM(C23:J23) -> 256.08 | L23: =43765.5-K23 -> 43509.42
A24: Marcilei A. P. Vignatti | B24: 01/25 | C24: =Marcilei!$O13 -> 154.76 | D24: =Marcilei!$O14 -> 0 | E24: =Marcilei!B15 -> 45.9 | F24: =Marcilei!$O21 -> 301.92 | G24: =Marcilei!$O17 -> 0 | H24: =Marcilei!$O18 -> 0 | I24: =Marcilei!$O19 -> 0 | J24: =Marcilei!$O20 -> 0 | K24: =Marcilei!O21 -> 301.92 | L24: =43765.5-K24 -> 43463.58
A25: Neuri Luiz Mantelli | B25: 01/25 | C25: =Neuri!$O14 -> 0 | D25: =Neuri!$O14 -> 0 | E25: =Neuri!$O15 -> 42.84 | F25: =Neuri!$O14 -> 0 | G25: =Neuri!$O17 -> 0 | H25: =Neuri!$O18 -> 0 | I25: =Neuri!$O19 -> 0 | J25: =Neuri!$O20 -> 0 | K25: =Neuri!O21 -> 64.75 | L25: =43765.5-K25 -> 43700.75
A26: Nivaldo A. Rosa | B26: 01/25 | C26: 80.09 | E26: 59.04 | I26: 1782.42 | J26: 2567.58 | K26: =SUM(C26:J26) -> 4489.13 | L26: =43765.5-K26 -> 39276.37
A27: Paulinho da Silva | B27: 01/25 | C27: =Paulinho!$O13 -> 8.8 | D27: =Paulinho!$O14 -> 0 | E27: =Paulinho!$O15 -> 78.39 | G27: =Paulinho!$O16 -> 0 | H27: =Paulinho!$O17 -> 0 | K27: =SUM(C27:J27) -> 87.19 | L27: =43765.5-K27 -> 43678.31
A28: Valdemir A. Stobe | B28: 01/25 | C28: =Valdemir!$O13 -> 123.32 | D28: =Valdemir!$O14 -> 4.1 | E28: =Valdemir!$O15 -> 155.61 | F28: =Valdemir!$O24 | G28: =Valdemir!$O17 -> 0 | H28: =Valdemir!$O18 -> 0 | I28: =Valdemir!$O19 -> 0 | J28: =Valdemir!$O20 -> 0 | K28: =SUM(C28:J28) -> 283.03 | L28: =43765.5-K28 -> 43482.47
A29: Wilson Jr Cidrão | B29: 01/25 | C29: ='Cidrão'!$O13 -> 0 | D29: ='Cidrão'!$O14 -> 0 | E29: ='Cidrão'!$O15 -> 20.7 | F29: ='Cidrão'!$O16 -> 0 | G29: ='Cidrão'!$O17 -> 0 | H29: ='Cidrão'!$O18 -> 0 | I29: ='Cidrão'!$O19 -> 0 | J29: ='Cidrão'!$O20 -> 0 | K29: =SUM(C29:J29) -> 20.7 | L29: =43765.5-K29 -> 43744.8
A30: SOMA | B30: - | C30: =SUM(C9:C29) -> 1458.45 | D30: =SUM(D9:D29) -> 47.66 | E30: =SUM(E9:E29) -> 1219.2 | F30: =SUM(F9:F29) -> 386.49 | G30: =SUM(G9:G29) -> 0 | H30: =SUM(H9:H29) -> 2241 | I30: =SUM(I9:I29) -> 27551.09 | J30: =SUM(J9:J29) -> 22437.09 | K30: =SUM(K9:K29) -> 55162.23
