Workbook
Name Excel_BuiltIn_Print_Area: Publicar!$A$1:$K$31

Sheet Adão
A9: RELATÓRIO DE DESPESA ANUAL – 2024
A10: Gabinete do Vereador Adão Valcir Teodoro
A12: Item | B12: Jan | C12: Fev | D12: Mar | E12: Abr | F12: Mai | G12: Jun | H12: Jul | I12: Ago | J12: Set | K12: Out | L12: Nov | M12: Dez | N12: Média | O12: Total
A13: Materiais de Expediente | B13: 0.61 | C13: 273.39 | D13: 24.53 | O13: =SUM(B13:N13) -> 298.53
A14: Correspondências | O14: =SUM(B14:N14) -> 0
A15: Fotocópias | B15: 30.25 | C15: 29.48 | O15: =SUM(B15:N15) -> 59.73
A16: Telefonia Móvel | O16: =SUM(B16:N16) -> 0
A17: Telefonia Fixa | O17: =SUM(B17:N17) -> 0
A18: Inscrições em Cursos e Similares | C18: 590 | O18: =SUM(B18:N18) -> 590
A19: Passagens e Combustíveis | C19: 1869.44 | O19: =SUM(B19:N19) -> 1869.44
A20: Diárias | C20: 4675.44 | O20: =SUM(B20:N20) -> 4675.44
A21: TOTAL | B21: =SUM(B13:B20) -> 30.86 | C21: =SUM(C13:C20) -> 7437.75 | D21: =SUM(D13:D20) -> 24.53 | E21: =SUM(E13:E20) -> 0 | F21: =SUM(F13:F20) -> 0 | G21: =SUM(G13:G20) -> 0 | H21: =SUM(H13:H20) -> 0 | I21: =SUM(I13:I20) -> 0 | ... O21: =SUM(O13:O20) -> 7493.14

Sheet Kovaleski
A9: RELATÓRIO DE DESPESA ANUAL – 2024
A10: Gabinete do Vereador André Caetano Kovaleski
A12: Item | B12: Jan | C12: Fev | D12: Mar | E12: Abr | F12: Mai | G12: Jun | H12: Jul | I12: Ago | J12: Set | K12: Out | L12: Nov | M12: Dez | N12: Média | O12: Total
A13: Materiais de Expediente | B13: 23.85 | C13: 253.68 | D13: 49.04 | O13: =SUM(B13:N13) -> 326.57
A14: Correspondências | O14: =SUM(B14:N14) -> 0
A15: Fotocópias | B15: 25.08 | C15: 120.44 | D15: 144.39 | O15: =SUM(B15:N15) -> 289.91
A16: Telefonia Móvel | O16: =SUM(B16:N16) -> 0
A17: Telefonia Fixa | O17: =SUM(B17:N17) -> 0
A18: Inscrições em Cursos e Similares | O18: =SUM(B18:N18) -> 0
A19: Passagens e Combustíveis | O19: =SUM(B19:N19) -> 0
A20: Diárias | O20: =SUM(B20:N20) -> 0
A21: TOTAL | B21: =SUM(B13:B20) -> 48.93 | C21: =SUM(C13:C20) -> 374.12 | D21: =SUM(D13:D20) -> 193.43 | E21: =SUM(E13:E20) -> 0 | F21: =SUM(F13:F20) -> 0 | G21: =SUM(G13:G20) -> 0 | H21: =SUM(H13:H20) -> 0 | I21: =SUM(I13:I20) -> 0 | ... O21: =SUM(O13:O20) -> 616.48

Sheet Valduga
A9: RELATÓRIO DE DESPESA ANUAL – 2024
A10: Gabinete do Vereador Cezar Antonio Valduga
A12: Item | B12: Jan | C12: Fev | D12: Mar | E12: Abr | F12: Mai | G12: Jun | H12: Jul | I12: Ago | J12: Set | K12: Out | L12: Nov | M12: Dez | N12: Média | O12: Total
A13: Materiais de Expediente | B13: 20 | C13: 71.44 | D13: 14.73 | O13: =SUM(B13:N13) -> 106.17
A14: Correspondências | O14: =SUM(B14:N14) -> 0
A15: Fotocópias | B15: 3.96 | C15: 57.53 | D15: 50.71 | O15: =SUM(B15:N15) -> 112.2
A16: Telefonia Móvel | O16: =SUM(B16:N16) -> 0
A17: Telefonia Fixa | O17: =SUM(B17:N17) -> 0
A18: Inscrições em Cursos e Similares | O18: =SUM(B18:N18) -> 0
A19: Passagens e Combustíveis | O19: =SUM(B19:N19) -> 0
A20: Diárias | O20: =SUM(B20:N20) -> 0
A21: TOTAL | B21: =SUM(B13:B20) -> 23.96 | C21: =SUM(C13:C20) -> 128.97 | D21: =SUM(D13:D20) -> 65.44 | E21: =SUM(E13:E20) -> 0 | F21: =SUM(F13:F20) -> 0 | G21: =SUM(G13:G20) -> 0 | H21: =SUM(H13:H20) -> 0 | I21: =SUM(I13:I20) -> 0 | ... O21: =SUM(O13:O20) -> 218.37

Sheet Claudair
A9: RELATÓRIO DE DESPESA ANUAL – 2024
A10: Gabinete do Vereador Claudair Sanzovo
A12: Item | B12: Jan | C12: Fev | D12: Mar | E12: Abr | F12: Mai | G12: Jun | H12: Jul | I12: Ago | J12: Set | K12: Out | L12: Nov | M12: Dez | N12: Média | O12: Total
A13: Materiais de Expediente | B13: 3.55 | C13: 40.44 | D13: 34.02 | O13: =SUM(B13:N13) -> 78.01
A14: Correspondências | O14: =SUM(B14:N14) -> 0
A15: Fotocópias | B15: 7.81 | C15: 39.84 | D15: 38.81 | O15: =SUM(B15:N15) -> 86.46
A16: Telefonia Móvel | O16: =SUM(B16:N16) -> 0
A17: Telefonia Fixa | O17: =SUM(B17:N17) -> 0
A18: Inscrições em Cursos e Similares | C18: 590 | O18: =SUM(B18:N18) -> 590
A19: Passagens e Combustíveis | C19: 3193.54 | O19: =SUM(B19:N19) -> 3193.54
A20: Diárias | C20: 4675.44 | O20: =SUM(B20:N20) -> 4675.44
A21: TOTAL | B21: =SUM(B13:B20) -> 11.36 | C21: =SUM(C13:C20) -> 8539.26 | D21: =SUM(D13:D20) -> 72.83 | E21: =SUM(E13:E20) -> 0 | F21: =SUM(F13:F20) -> 0 | G21: =SUM(G13:G20) -> 0 | H21: =SUM(H13:H20) -> 0 | I21: =SUM(I13:I20) -> 0 | ... O21: =SUM(O13:O20) -> 8623.45

Sheet Cleber
A9: RELATÓRIO DE DESPESA ANUAL – 2024
A10: Gabinete do Vereador Cleber Fossá
A12: Item | B12: Jan | C12: Fev | D12: Mar | E12: Abr | F12: Mai | G12: Jun | H12: Jul | I12: Ago | J12: Set | K12: Out | L12: Nov | M12: Dez | N12: Média | O12: Total
A13: Materiais de Expediente | C13: 303.79 | O13: =SUM(B13:N13) -> 303.79
A14: Correspondências | O14: =SUM(B14:N14) -> 0
A15: Fotocópias | B15: 12.76 | C15: 22.88 | D15: 20.79 | O15: =SUM(B15:N15) -> 56.43
A16: Telefonia Móvel | O16: =SUM(B16:N16) -> 0
A17: Telefonia Fixa | O17: =SUM(B17:N17) -> 0
A18: Inscrições em Cursos e Similares | D18: 1400 | O18: =SUM(B18:N18) -> 1400
A19: Passagens e Combustíveis | D19: 3952.64 | O19: =SUM(B19:N19) -> 3952.64
A20: Diárias | D20: 4285.82 | O20: =SUM(B20:N20) -> 4285.82
A21: TOTAL | B21: =SUM(B13:B20) -> 12.76 | C21: =SUM(C13:C20) -> 326.67 | D21: =SUM(D13:D20) -> 9659.25 | E21: =SUM(E13:E20) -> 0 | F21: =SUM(F13:F20) -> 0 | G21: =SUM(G13:G20) -> 0 | H21: =SUM(H13:H20) -> 0 | I21: =SUM(I13:I20) -> 0 | ... O21: =SUM(O13:O20) -> 9998.68

Sheet Deise
A9: RELATÓRIO DE DESPESA ANUAL – 2024
A10: Gabinete do Vereador Deise Imara Schilke
A12: Item | B12: Jan | C12: Fev | D12: Mar | E12: Abr | F12: Mai | G12: Jun | H12: Jul | I12: Ago | J12: Set | K12: Out | L12: Nov | M12: Dez | N12: Média | O12: Total
A13: Materiais de Expediente | C13: 188.01 | D13: 104.66 | O13: =SUM(B13:N13) -> 292.67
A14: Correspondências | O14: =SUM(B14:N14) -> 0
A15: Fotocópias | B15: 27.61 | C15: 104.5 | D15: 128.65 | O15: =SUM(B15:N15) -> 260.76
A16: Telefonia Móvel | O16: =SUM(B16:N16) -> 0
A17: Telefonia Fixa | O17: =SUM(B17:N17) -> 0
A18: Inscrições em Cursos e Similares | O18: =SUM(B18:N18) -> 0
A19: Passagens e Combustíveis | O19: =SUM(B19:N19) -> 0
A20: Diárias | O20: =SUM(B20:N20) -> 0
A21: TOTAL | B21: =SUM(B13:B20) -> 27.61 | C21: =SUM(C13:C20) -> 292.51 | D21: =SUM(D13:D20) -> 233.31 | E21: =SUM(E13:E20) -> 0 | F21: =SUM(F13:F20) -> 0 | G21: =SUM(G13:G20) -> 0 | H21: =SUM(H13:H20) -> 0 | I21: =SUM(I13:I20) -> 0 | ... O21: =SUM(O13:O20) -> 553.43

Sheet Neuri
A9: RELATÓRIO DE DESPESA ANUAL – 2024
A10: Gabinete do Vereador Neuri Mantelli
A12: Item | B12: Jan | C12: Fev | D12: Mar | E12: Abr | F12: Mai | G12: Jun | H12: Jul | I12: Ago | J12: Set | K12: Out | L12: Nov | M12: Dez | N12: Média | O12: Total
A13: Materiais de Expediente | B13: 17.52 | C13: 28.9 | D13: 74.02 | O13: =SUM(B13:N13) -> 120.44
A14: Correspondências | O14: =SUM(B14:N14) -> 0
A15: Fotocópias | B15: 34.43 | C15: 37.07 | D15: 52.03 | O15: =SUM(B15:N15) -> 123.53
A16: Telefonia Móvel | O16: =SUM(B16:N16) -> 0
A17: Telefonia Fixa | O17: =SUM(B17:N17) -> 0
A18: Inscrições em Cursos e Similares | O18: =SUM(B18:N18) -> 0
A19: Passagens e Combustíveis | O19: =SUM(B19:N19) -> 0
A20: Diárias | O20: =SUM(B20:N20) -> 0
A21: TOTAL | B21: =SUM(B13:B20) -> 51.95 | C21: =SUM(C13:C20) -> 65.97 | D21: =SUM(D13:D20) -> 126.05 | E21: =SUM(E13:E20) -> 0 | F21: =SUM(F13:F20) -> 0 | G21: =SUM(G13:G20) -> 0 | H21: =SUM(H13:H20) -> 0 | I21: =SUM(I13:I20) -> 0 | ... O21: =SUM(O13:O20) -> 243.97
A22: *Tomou Posse em 24.02.2023
A23: Vereador Titular Neuri Mantelli

Sheet Valmor
A1: Va
A9: RELATÓRIO DE DESPESA ANUAL – 2024
A10: Gabinete do Vereador Delvino Dall Rosa
A12: Item | B12: Jan | C12: Fev | D12: Mar | E12: Abr | F12: Mai | G12: Jun | H12: Jul | I12: Ago | J12: Set | K12: Out | L12: Nov | M12: Dez | N12: Média | O12: Total
A13: Materiais de Expediente | B13: 32.19 | C13: 116.05 | D13: 25.59 | O13: =SUM(B13:N13) -> 173.83
A14: Correspondências | O14: =SUM(B14:N14) -> 0
A15: Fotocópias | B15: 37.84 | C15: 86.79 | D15: 95.7 | O15: =SUM(B15:N15) -> 220.33
A16: Telefonia Móvel | O16: =SUM(B16:N16) -> 0
A17: Telefonia Fixa | O17: =SUM(B17:N17) -> 0
A18: Inscrições em Cursos e Similares | O18: =SUM(B18:N18) -> 0
A19: Passagens e Combustíveis | O19: =SUM(B19:N19) -> 0
A20: Diárias | O20: =SUM(B20:N20) -> 0
A21: TOTAL | B21: =SUM(B13:B20) -> 70.03 | C21: =SUM(C13:C20) -> 202.84 | D21: =SUM(D13:D20) -> 121.29 | E21: =SUM(E13:E20) -> 0 | F21: =SUM(F13:F20) -> 0 | G21: =SUM(G13:G20) -> 0 | H21: =SUM(H13:H20) -> 0 | I21: =SUM(I13:I20) -> 0 | ... N21: =SUM(N13:N20) -> 0 | O21: =SUM(B21:N21) -> 394.16

Sheet Fernando
A9: RELATÓRIO DE DESPESA ANUAL – 2024
A10: Gabinete do Vereador Fernando Cordeiro dos Santos
A12: Item | B12: Jan | C12: Fev | D12: Mar | E12: Abr | F12: Mai | G12: Jun | H12: Jul | I12: Ago | J12: Set | K12: Out | L12: Nov | M12: Dez | N12: Média | O12: Total
A13: Materiais de Expediente | B13: 21.99 | C13: 316.74 | D13: 15.27 | O13: =SUM(B13:N13) -> 354
A14: Correspondências | O14: =SUM(B14:N14) -> 0
A15: Fotocópias | B15: 33.66 | C15: 62.7 | D15: 67.54 | O15: =SUM(B15:N15) -> 163.9
A16: Telefonia Móvel | O16: =SUM(B16:N16) -> 0
A17: Telefonia Fixa | O17: =SUM(B17:N17) -> 0
A18: Inscrições em Cursos e Similares | O18: =SUM(B18:N18) -> 0
A19: Passagens e Combustíveis | O19: =SUM(B19:N19) -> 0
A20: Diárias | O20: =SUM(B20:N20) -> 0
A21: TOTAL | B21: =SUM(B13:B20) -> 55.65 | C21: =SUM(C13:C20) -> 379.44 | D21: =SUM(D13:D20) -> 82.81 | E21: =SUM(E13:E20) -> 0 | F21: =SUM(F13:F20) -> 0 | G21: =SUM(G13:G20) -> 0 | H21: =SUM(H13:H20) -> 0 | I21: =SUM(I13:I20) -> 0 | ... O21: =SUM(O13:O20) -> 517.9

Sheet Ivaldo
A9: RELATÓRIO DE DESPESA ANUAL – 2024
A10: Gabinete do Vereador Ivaldo Pizzinatto
A12: Item | B12: Jan | C12: Fev | D12: Mar | E12: Abr | F12: Mai | G12: Jun | H12: Jul | I12: Ago | J12: Set | K12: Out | L12: Nov | M12: Dez | N12: Média | O12: Total
A13: Materiais de Expediente | B13: 41.25 | C13: 295.65 | D13: 48.57 | O13: =SUM(B13:N13) -> 385.47
A14: Correspondências | O14: =SUM(B14:N14) -> 0
A15: Fotocópias | B15: 22.66 | C15: 130.32 | D15: 128.37 | O15: =SUM(B15:N15) -> 281.35
A16: Telefonia Móvel | O16: =SUM(B16:N16) -> 0
A17: Telefonia Fixa | O17: =SUM(B17:N17) -> 0
A18: Inscrições em Cursos e Similares | O18: =SUM(B18:N18) -> 0
A19: Passagens e Combustíveis | O19: =SUM(B19:N19) -> 0
A20: Diárias | O20: =SUM(B20:N20) -> 0
A21: TOTAL | B21: =SUM(B13:B20) -> 63.91 | C21: =SUM(C13:C20) -> 425.97 | D21: =SUM(D13:D20) -> 176.94 | E21: =SUM(E13:E20) -> 0 | F21: =SUM(F13:F20) -> 0 | G21: =SUM(G13:G20) -> 0 | H21: =SUM(H13:H20) -> 0 | I21: =SUM(I13:I20) -> 0 | ... O21: =SUM(O13:O20) -> 666.82

Sheet Nelson Krombauer
A9: RELATÓRIO DE DESPESA ANUAL – 2024
A10: Gabinete do Vereador Nelson Krombauer
A12: Item | B12: Jan | C12: Fev | D12: Mar | E12: Abr | F12: Mai | G12: Jun | H12: Jul | I12: Ago | J12: Set | K12: Out | L12: Nov | M12: Dez | N12: Média | O12: Total
A13: Materiais de Expediente | B13: 12.54 | C13: 262.96 | O13: =SUM(B13:N13) -> 275.5
A14: Correspondências | O14: =SUM(B14:N14) -> 0
A15: Fotocópias | C15: 47.17 | D15: 52.58 | O15: =SUM(B15:N15) -> 99.75
A16: Telefonia Móvel | O16: =SUM(B16:N16) -> 0
A17: Telefonia Fixa | O17: =SUM(B17:N17) -> 0
A18: Inscrições em Cursos e Similares | O18: =SUM(B18:N18) -> 0
A19: Passagens e Combustíveis | O19: =SUM(B19:N19) -> 0
A20: Diárias | B20: 0 | C20: 0 | D20: 0 | E20: 0 | F20: 0 | G20: 0 | H20: 0 | I20: 0 | J20: 0 | K20: 0 | L20: 0 | M20: 0 | N20: =SUM(B20:M20)/12 -> 0 | O20: =SUM(B20:N20) -> 0
A21: TOTAL | B21: =SUM(B13:B20) -> 12.54 | C21: =SUM(C13:C20) -> 310.13 | D21: =SUM(D13:D20) -> 52.58 | E21: =SUM(E13:E20) -> 0 | F21: =SUM(F13:F20) -> 0 | G21: =SUM(G13:G20) -> 0 | H21: =SUM(H13:H20) -> 0 | I21: =SUM(I13:I20) -> 0 | ... O21: =SUM(O13:O20) -> 375.25

Sheet João R
A9: RELATÓRIO DE DESPESA ANUAL – 2024
A10: Gabinete do Vereador João Maria Marques Rosa
A12: Item | B12: Jan | C12: Fev | D12: Mar | E12: Abr | F12: Mai | G12: Jun | H12: Jul | I12: Ago | J12: Set | K12: Out | L12: Nov | M12: Dez | N12: Média | O12: Total
A13: Materiais de Expediente | B13: 17.86 | C13: 113.71 | D13: 27.98 | O13: =SUM(B13:N13) -> 159.55
A14: Correspondências | O14: =SUM(B14:N14) -> 0
A15: Fotocópias | B15: 31.46 | C15: 56.38 | D15: 87.1 | O15: =SUM(B15:N15) -> 174.94
A16: Telefonia Móvel | O16: =SUM(B16:N16) -> 0
A17: Telefonia Fixa | O17: =SUM(B17:N17) -> 0
A18: Inscrições em Cursos e Similares | O18: =SUM(B18:N18) -> 0
A19: Passagens e Combustíveis | O19: =SUM(B19:N19) -> 0
A20: Diárias | O20: =SUM(B20:N20) -> 0
A21: TOTAL | B21: =SUM(B13:B20) -> 49.32 | C21: =SUM(C13:C20) -> 170.09 | D21: =SUM(D13:D20) -> 115.08 | E21: =SUM(E13:E20) -> 0 | F21: =SUM(F13:F20) -> 0 | G21: =SUM(G13:G20) -> 0 | H21: =SUM(H13:H20) -> 0 | I21: =SUM(I13:I20) -> 0 | ... O21: =SUM(O13:O20) -> 334.49

Sheet Carraro
A9: RELATÓRIO DE DESPESA ANUAL – 2024
A10: Gabinete do Vereador Luiz Paulo Carraro
A12: Item | B12: Jan | C12: Fev | D12: Mar | E12: Abr | F12: Mai | G12: Jun | H12: Jul | I12: Ago | J12: Set | K12: Out | L12: Nov | M12: Dez | N12: Média | O12: Total
A13: Materiais de Expediente | C13: 94.36 | D13: 51.74 | O13: =SUM(B13:N13) -> 146.1
A14: Correspondências | O14: =SUM(B14:N14) -> 0
A15: Fotocópias | B15: 110.66 | C15: 188.65 | D15: 96.47 | O15: =SUM(B15:N15) -> 395.78
A16: Telefonia Móvel | O16: =SUM(B16:N16) -> 0
A17: Telefonia Fixa | O17: =SUM(B17:N17) -> 0
A18: Inscrições em Cursos e Similares | O18: =SUM(B18:N18) -> 0
A19: Passagens e Combustíveis | O19: =SUM(B19:N19) -> 0
A20: Diárias | O20: =SUM(B20:N20) -> 0
A21: TOTAL | B21: =SUM(B13:B20) -> 110.66 | C21: =SUM(C13:C20) -> 283.01 | D21: =SUM(D13:D20) -> 148.21 | E21: =SUM(E13:E20) -> 0 | F21: =SUM(F13:F20) -> 0 | G21: =SUM(G13:G20) -> 0 | H21: =SUM(H13:H20) -> 0 | I21: =SUM(I13:I20) -> 0 | ... O21: =SUM(O13:O20) -> 541.88
A23: *Licenciou-se por tempo indeterminado, a partir do dia 14/05/2019 - assumiu o cargo de Superintendente da Região da Efapi.

Sheet Aderbal
A9: RELATÓRIO DE DESPESA ANUAL – 2024
A10: Gabinete do Vereador Aderbal Pedroso
A12: Item | B12: Jan | C12: Fev | D12: Mar | E12: Abr | F12: Mai | G12: Jun | H12: Jul | I12: Ago | J12: Set | K12: Out | L12: Nov | M12: Dez | N12: Média | O12: Total
A13: Materiais de Expediente | C13: 52.12 | D13: 72.64 | O13: =SUM(B13:N13) -> 124.76
A14: Correspondências | O14: =SUM(B14:N14) -> 0
A15: Fotocópias | B15: 11.44 | C15: 13.86 | D15: 38.06 | O15: =SUM(B15:N15) -> 63.36
A16: Telefonia Móvel | O16: =SUM(B16:N16) -> 0
A17: Telefonia Fixa | O17: =SUM(B17:N17) -> 0
A18: Inscrições em Cursos e Similares | O18: =SUM(B18:N18) -> 0
A19: Passagens e Combustíveis | O19: =SUM(B19:N19) -> 0
A20: Diárias | O20: =SUM(B20:N20) -> 0
A21: TOTAL | B21: =SUM(B13:B20) -> 11.44 | C21: =SUM(C13:C20) -> 65.98 | D21: =SUM(D13:D20) -> 110.7 | E21: =SUM(E13:E20) -> 0 | F21: =SUM(F13:F20) -> 0 | G21: =SUM(G13:G20) -> 0 | H21: =SUM(H13:H20) -> 0 | I21: =SUM(I13:I20) -> 0 | ... O21: =SUM(O13:O20) -> 188.12

Sheet Marcilei
A9: RELATÓRIO DE DESPESA ANUAL – 2024
A10: Gabinete da Vereadora Marcilei Andrea Pezenatto Vignatti
A12: Item | B12: Jan | C12: Fev | D12: Mar | E12: Abr | F12: Mai | G12: Jun | H12: Jul | I12: Ago | J12: Set | K12: Out | L12: Nov | M12: Dez | N12: Média | O12: Total
A13: Materiais de Expediente | C13: 128.07 | D13: 21.99 | O13: =SUM(B13:N13) -> 150.06
A14: Correspondências | O14: =SUM(B14:N14) -> 0
A15: Fotocópias | B15: 19.03 | C15: 128.92 | D15: 237.16 | O15: =SUM(B15:N15) -> 385.11
A16: Telefonia Móvel | O16: =SUM(B16:N16) -> 0
A17: Telefonia Fixa | O17: =SUM(B17:N17) -> 0
A18: Inscrições em Cursos e Similares | D18: 700 | O18: =SUM(B18:N18) -> 700
A19: Passagens e Combustíveis | D19: 3595.22 | O19: =SUM(B19:N19) -> 3595.22
A20: Diárias | D20: 3283.94 | O20: =SUM(B20:N20) -> 3283.94
A21: TOTAL | B21: =SUM(B13:B20) -> 19.03 | C21: =SUM(C13:C20) -> 256.99 | D21: =SUM(D13:D20) -> 7838.31 | E21: =SUM(E13:E20) -> 0 | F21: =SUM(F13:F20) -> 0 | G21: =SUM(G13:G20) -> 0 | H21: =SUM(H13:H20) -> 0 | I21: =SUM(I13:I20) -> 0 | ... O21: =SUM(O13:O20) -> 8114.33

Sheet Elisiani
A9: RELATÓRIO DE DESPESA ANUAL – 2024
A10: Gabinete da Vereadora Elisiani Schmidt Sanches
A12: Item | B12: Jan | C12: Fev | D12: Mar | E12: Abr | F12: Mai | G12: Jun | H12: Jul | I12: Ago | J12: Set | K12: Out | L12: Nov | M12: Dez | N12: Média | O12: Total
A13: Materiais de Expediente | B13: 3.67 | C13: 287.39 | D13: 4.91 | O13: =SUM(B13:N13) -> 295.97
A14: Correspondências | O14: =SUM(B14:N14) -> 0
A15: Fotocópias | B15: 23.54 | C15: 46.31 | D15: 21.89 | O15: =SUM(B15:N15) -> 91.74
A16: Telefonia Móvel | O16: =SUM(B16:N16) -> 0
A17: Telefonia Fixa | O17: =SUM(B17:N17) -> 0
A18: Inscrições em Cursos e Similares | O18: =SUM(B18:N18) -> 0
A19: Passagens e Combustíveis | O19: =SUM(B19:N19) -> 0
A20: Diárias | O20: =SUM(B20:N20) -> 0
A21: TOTAL | B21: =SUM(B13:B20) -> 27.21 | C21: =SUM(C13:C20) -> 333.7 | D21: =SUM(D13:D20) -> 26.8 | E21: =SUM(E13:E20) -> 0 | F21: =SUM(F13:F20) -> 0 | G21: =SUM(G13:G20) -> 0 | H21: =SUM(H13:H20) -> 0 | I21: =SUM(I13:I20) -> 0 | ... O21: =SUM(O13:O20) -> 387.71

Sheet Krombauer
A9: RELATÓRIO DE DESPESA ANUAL – 2024
A10: Gabinete do Vereador Nelson João Kronbauer
A12: Item | B12: Jan | C12: Fev | D12: Mar | E12: Abr | F12: Mai | G12: Jun | H12: Jul | I12: Ago | J12: Set | K12: Out | L12: Nov | M12: Dez | N12: Média | O12: Total
A13: Materiais de Expediente | O13: =SUM(B13:N13) -> 0
A14: Correspondências | O14: =SUM(B14:N14) -> 0
A15: Fotocópias | O15: =SUM(B15:N15) -> 0
A16: Telefonia Móvel | O16: =SUM(B16:N16) -> 0
A17: Telefonia Fixa | O17: =SUM(B17:N17) -> 0
A18: Inscrições em Cursos e Similares | O18: =SUM(B18:N18) -> 0
A19: Passagens e Combustíveis | O19: =SUM(B19:N19) -> 0
A20: Diárias | O20: =SUM(B20:N20) -> 0
A21: TOTAL | B21: =SUM(B13:B20) -> 0 | C21: =SUM(C13:C20) -> 0 | D21: =SUM(D13:D20) -> 0 | E21: =SUM(E13:E20) -> 0 | F21: =SUM(F13:F20) -> 0 | G21: =SUM(G13:G20) -> 0 | H21: =SUM(H13:H20) -> 0 | I21: =SUM(I13:I20) -> 0 | ... O21: =SUM(O13:O20) -> 0

Sheet Sueli
A9: RELATÓRIO DE DESPESA ANUAL – 2024
A10: Gabinete do Vereador Sueli Sutilli
A12: Item | B12: Jan | C12: Fev | D12: Mar | E12: Abr | F12: Mai | G12: Jun | H12: Jul | I12: Ago | J12: Set | K12: Out | L12: Nov | M12: Dez | N12: Média | O12: Total
A13: Materiais de Expediente | C13: 4.27 | D13: 4.86 | O13: =SUM(B13:N13) -> 9.13
A14: Correspondências | O14: =SUM(B14:N14) -> 0
A15: Fotocópias | B15: 67.54 | C15: 45.87 | D15: 50.93 | O15: =SUM(B15:N15) -> 164.34
A16: Telefonia Móvel | O16: =SUM(B16:N16) -> 0
A17: Telefonia Fixa | O17: =SUM(B17:N17) -> 0
A18: Inscrições em Cursos e Similares | O18: =SUM(B18:N18) -> 0
A19: Passagens e Combustíveis | O19: =SUM(B19:N19) -> 0
A20: Diárias | D20: 467.54 | O20: =SUM(B20:N20) -> 467.54
A21: TOTAL | B21: =SUM(B13:B20) -> 67.54 | C21: =SUM(C13:C20) -> 50.14 | D21: =SUM(D13:D20) -> 523.33 | E21: =SUM(E13:E20) -> 0 | F21: =SUM(F13:F20) -> 0 | G21: =SUM(G13:G20) -> 0 | H21: =SUM(H13:H20) -> 0 | I21: =SUM(I13:I20) -> 0 | ... O21: =SUM(O13:O20) -> 641.01

Sheet Valdemir
A9: RELATÓRIO DE DESPESA ANUAL – 2024
A10: Gabinete do Vereador Valdemir Antonio Stobe
A12: Item | B12: Jan | C12: Fev | D12: Mar | E12: Abr | F12: Mai | G12: Jun | H12: Jul | I12: Ago | J12: Set | K12: Out | L12: Nov | M12: Dez | N12: Média | O12: Total
A13: Materiais de Expediente | B13: 53.39 | C13: 6.21 | D13: 60.47 | O13: =SUM(B13:N13) -> 120.07
A14: Correspondências | O14: =SUM(B14:N14) -> 0
A15: Fotocópias | B15: 29.59 | C15: 91.41 | D15: 106.24 | O15: =SUM(B15:N15) -> 227.24
A16: Telefonia Móvel | O16: =SUM(B16:N16) -> 0
A17: Telefonia Fixa | O17: =SUM(B17:N17) -> 0
A18: Inscrições em Cursos e Similares | N18: =SUM(B18:M18)/12 -> 0 | O18: =SUM(B18:N18) -> 0
A19: Passagens e Combustíveis | B19: 0 | C19: 0 | D19: 0 | E19: 0 | F19: 0 | G19: 0 | H19: 0 | I19: 0 | J19: 0 | K19: 0 | L19: 0 | M19: 0 | N19: =SUM(B19:M19)/12 -> 0 | O19: =SUM(B19:N19) -> 0
A20: Diárias | B20: 0 | C20: 0 | D20: 0 | E20: 0 | F20: 0 | G20: 0 | H20: 0 | I20: 0 | J20: 0 | K20: 0 | L20: 0 | M20: 0 | N20: =SUM(B20:M20)/12 -> 0 | O20: =SUM(B20:N20) -> 0
A21: TOTAL | B21: =SUM(B13:B20) -> 82.98 | C21: =SUM(C13:C20) -> 97.62 | D21: =SUM(D13:D20) -> 166.71 | E21: =SUM(E13:E20) -> 0 | F21: =SUM(F13:F20) -> 0 | G21: =SUM(G13:G20) -> 0 | H21: =SUM(H13:H20) -> 0 | I21: =SUM(I13:I20) -> 0 | ... O21: =SUM(O13:O20) -> 347.31

Sheet Carvalho
A9: RELATÓRIO DE DESPESA ANUAL – 2024
A10: Gabinete do Vereador Valdir Smael Carvalho
A12: Item | B12: Jan | C12: Fev | D12: Mar | E12: Abr | F12: Mai | G12: Jun | H12: Jul | I12: Ago | J12: Set | K12: Out | L12: Nov | M12: Dez | N12: Média | O12: Total
A13: Materiais de Expediente | C13: 25.44 | D13: 53.42 | O13: =SUM(B13:N13) -> 78.86
A14: Correspondências | O14: =SUM(B14:N14) -> 0
A15: Fotocópias | B15: 11.66 | C15: 45.97 | D15: 115.17 | O15: =SUM(B15:N15) -> 172.8
A16: Telefonia Móvel | O16: =SUM(B16:N16) -> 0
A17: Telefonia Fixa | O17: =SUM(B17:N17) -> 0
A18: Inscrições em Cursos e Similares | C18: 590 | O18: =SUM(B18:N18) -> 590
A19: Passagens e Combustíveis | C19: 2824.72 | O19: =SUM(B19:N19) -> 2824.72
A20: Diárias | C20: 4675.44 | O20: =SUM(B20:N20) -> 4675.44
A21: TOTAL | B21: =SUM(B13:B20) -> 11.66 | C21: =SUM(C13:C20) -> 8161.57 | D21: =SUM(D13:D20) -> 168.59 | E21: =SUM(E13:E20) -> 0 | F21: =SUM(F13:F20) -> 0 | G21: =SUM(G13:G20) -> 0 | H21: =SUM(H13:H20) -> 0 | I21: =SUM(I13:I20) -> 0 | ... O21: =SUM(O13:O20) -> 8341.82

Sheet Claimar
A9: RELATÓRIO DE DESPESA ANUAL – 2024
A10: Gabinete do Vereador Clamair de Conto
A12: Item | B12: Jan | C12: Fev | D12: Mar | E12: Abr | F12: Mai | G12: Jun | H12: Jul | I12: Ago | J12: Set | K12: Out | L12: Nov | M12: Dez | N12: Média | O12: Total
A13: Materiais de Expediente | C13: 4.25 | D13: 9.82 | O13: =SUM(B13:N13) -> 14.07
A14: Correspondências | O14: =SUM(B14:N14) -> 0
A15: Fotocópias | B15: 6.49 | C15: 22.77 | D15: 72.71 | O15: =SUM(B15:N15) -> 101.97
A16: Telefonia Móvel | O16: =SUM(B16:N16) -> 0
A17: Telefonia Fixa | O17: =SUM(B17:N17) -> 0
A18: Inscrições em Cursos e Similares | C18: 590 | O18: =SUM(B18:N18) -> 590
A19: Passagens e Combustíveis | C19: 1869.44 | O19: =SUM(B19:N19) -> 1869.44
A20: Diárias | C20: 4675.44 | O20: =SUM(B20:N20) -> 4675.44
A21: TOTAL | B21: =SUM(B13:B20) -> 6.49 | C21: =SUM(C13:C20) -> 7161.9 | D21: =SUM(D13:D20) -> 82.53 | E21: =SUM(E13:E20) -> 0 | F21: =SUM(F13:F20) -> 0 | G21: =SUM(G13:G20) -> 0 | H21: =SUM(H13:H20) -> 0 | I21: =SUM(I13:I20) -> 0 | ... O21: =SUM(O13:O20) -> 7250.92

Sheet Cidrão
A9: RELATÓRIO DE DESPESA ANUAL – 2024
A10: Gabinete do Vereador Wilson Junior Cidrão
A12: Item | B12: Jan | C12: Fev | D12: Mar | E12: Abr | F12: Mai | G12: Jun | H12: Jul | I12: Ago | J12: Set | K12: Out | L12: Nov | M12: Dez | N12: Média | O12: Total
A13: Materiais de Expediente | C13: 29.95 | O13: =SUM(B13:N13) -> 29.95
A14: Correspondências | O14: =SUM(B14:N14) -> 0
A15: Fotocópias | B15: 16.28 | C15: 5.72 | D15: 3.19 | O15: =SUM(B15:N15) -> 25.19
A16: Telefonia Móvel | O16: =SUM(B16:N16) -> 0
A17: Telefonia Fixa | O17: =SUM(B17:N17) -> 0
A18: Inscrições em Cursos e Similares | O18: =SUM(B18:N18) -> 0
A19: Passagens e Combustíveis | O19: =SUM(B19:N19) -> 0
A20: Diárias | O20: =SUM(B20:N20) -> 0
A21: TOTAL | B21: =SUM(B13:B20) -> 16.28 | C21: =SUM(C13:C20) -> 35.67 | D21: =SUM(D13:D20) -> 3.19 | E21: =SUM(E13:E20) -> 0 | F21: =SUM(F13:F20) -> 0 | G21: =SUM(G13:G20) -> 0 | H21: =SUM(H13:H20) -> 0 | I21: =SUM(I13:I20) -> 0 | ... O21: =SUM(O13:O20) -> 55.14

Sheet Publicar
A5: 4. SISTEMA DE GERENCIAMENTO DE GABINETE PARLAMENTAR - SGGP
A6: JANEIRO A DEZEMBRO DE 2024
A7: Despesas / | B7: Mês / | C7: Mat. de | D7: Correios | E7: cópias | F7: Telefones | H7: Diárias | K7: Gastos | L7: Saldo
A8: Vereadores | B8: Posse | C8: Expediente | F8: Móvel | G8: Fixo | H8: Inscrições | I8: Passag./Des. | J8: Diárias | K8: Totais
A9: Adão V.Teodoro | B9: 44197 | C9: ='Adão'!O13 -> 298.53 | D9: ='Adão'!P14 | E9: ='Adão'!O15 -> 59.73 | F9: ='Adão'!O16 -> 0 | G9: ='Adão'!O17 -> 0 | H9: ='Adão'!O18 -> 590 | I9: ='Adão'!O19 -> 1869.44 | J9: ='Adão'!O20 -> 4675.44 | K9: =SUM(C9:J9) -> 7493.14 | L9: =41745-K9 -> 34251.86
A10: André C. Kovaleski | B10: 44199 | C10: =Kovaleski!$O13 -> 326.57 | D10: =Kovaleski!$O14 -> 0 | E10: =Kovaleski!$O15 -> 289.91 | F10: =Kovaleski!$O16 -> 0 | G10: =Kovaleski!$O17 -> 0 | H10: =Kovaleski!$O18 -> 0 | I10: =Kovaleski!$O19 -> 0 | J10: =Kovaleski!$O20 -> 0 | K10: =SUM(C10:J10) -> 616.48 | L10: =41745-K10 -> 41128.52
A11: Cezar A. Valduga | B11: 44200 | C11: =Valduga!$O13 -> 106.17 | D11: =Valduga!$O14 -> 0 | E11: =Valduga!$O15 -> 112.2 | F11: =Valduga!$O16 -> 0 | G11: =Valduga!$O17 -> 0 | H11: =Valduga!$O18 -> 0 | I11: =Valduga!$O19 -> 0 | J11: =Valduga!$O20 -> 0 | K11: =SUM(C11:J11) -> 218.37 | L11: =41745-K11 -> 41526.63
A12: Claudair A. Sanzovo | B12: 44201 | C12: =Claudair!$O13 -> 78.01 | D12: =Claudair!$O14 -> 0 | E12: =Claudair!$O15 -> 86.46 | F12: =Claudair!$O16 -> 0 | G12: =Claudair!$O17 -> 0 | H12: =Claudair!$O18 -> 590 | I12: =Claudair!$O19 -> 3193.54 | J12: =Claudair!$O20 -> 4675.44 | K12: =SUM(C12:J12) -> 8623.45 | L12: =41745-K12 -> 33121.55
A13: Claimar C. de Conto | B13: 12/22 | C13: =Claimar!$O13 -> 14.07 | D13: =Claimar!$O14 -> 0 | E13: =Claimar!$O15 -> 101.97 | G13: =Claimar!$O17 -> 0 | H13: =Claimar!$O18 -> 590 | I13: =Claimar!$O19 -> 1869.44 | J13: =Claimar!$O20 -> 4675.44 | K13: =SUM(C13:J13) -> 7250.92 | L13: =41745-K13 -> 34494.08
A14: Cleber Fossá | B14: 44213 | C14: =Cleber!$O13 -> 303.79 | D14: =Cleber!$O14 -> 0 | E14: =Cleber!$O15 -> 56.43 | F14: =Cleber!$O16 -> 0 | G14: =Cleber!$O17 -> 0 | H14: =Cleber!$O18 -> 1400 | I14: =Cleber!$O19 -> 3952.64 | J14: =Cleber!$O20 -> 4285.82 | K14: =SUM(C14:J14) -> 9998.68 | L14: =41745-K14 -> 31746.32
A15: Deise I. Schilke | B15: 44202 | C15: =Deise!$O13 -> 292.67 | D15: =Deise!$O14 -> 0 | E15: =Deise!$O15 -> 260.76 | F15: =Deise!$O16 -> 0 | G15: =Deise!$O17 -> 0 | H15: =Deise!$O18 -> 0 | I15: =Deise!$O19 -> 0 | J15: =Deise!$O20 -> 0 | K15: =SUM(C15:J15) -> 553.43 | L15: =41745-K15 -> 41191.57
A16: Valmor Junior Scolari | B16: 44203 | C16: =Valmor!$O13 -> 173.83 | D16: =Valmor!$O14 -> 0 | E16: =Valmor!$O15 -> 220.33 | F16: =Valmor!$O16 -> 0 | G16: =Valmor!$O17 -> 0 | H16: =Valmor!$O18 -> 0 | I16: =Valmor!$O19 -> 0 | J16: =Valmor!$O20 -> 0 | K16: =SUM(C16:J16) -> 394.16 | L16: =41745-K16 -> 41350.84
A17: Fernando C. dos Santos | B17: 44205 | C17: =Fernando!$O13 -> 354 | D17: =Fernando!$O14 -> 0 | E17: =Fernando!$O15 -> 163.9 | F17: =Fernando!$O14 -> 0 | G17: =Fernando!$O17 -> 0 | H17: =Fernando!$O18 -> 0 | I17: =Fernando!$O19 -> 0 | J17: =Fernando!$O20 -> 0 | K17: =SUM(C17:J17) -> 517.9 | L17: =41745-K17 -> 41227.1
A18: Ilvado Pizzinatto | B18: 44206 | C18: =Ivaldo!$O13 -> 385.47 | D18: =Ivaldo!$O14 -> 0 | E18: =Ivaldo!$O15 -> 281.35 | F18: =Ivaldo!$O17 -> 0 | G18: =Ivaldo!$O17 -> 0 | H18: =Ivaldo!$O18 -> 0 | I18: =Ivaldo!$O19 -> 0 | J18: =Ivaldo!$O20 -> 0 | K18: =SUM(C18:J18) -> 666.82 | L18: =41745-K18 -> 41078.18
A19: Nelson Krombauer | B19: 44207 | C19: ='Nelson Krombauer'!$O13 -> 275.5 | D19: ='Nelson Krombauer'!$O14 -> 0 | E19: ='Nelson Krombauer'!$O15 -> 99.75 | F19: ='Nelson Krombauer'!$O16 -> 0 | G19: ='Nelson Krombauer'!$O17 -> 0 | H19: ='Nelson Krombauer'!$O18 -> 0 | I19: ='Nelson Krombauer'!$O19 -> 0 | J19: ='Nelson Krombauer'!$O20 -> 0 | K19: =SUM(C19:J19) -> 375.25 | L19: =41745-K19 -> 41369.75
A20: João Maria M. Rosa | B20: 44208 | C20: ='João R'!$O13 -> 159.55 | D20: ='João R'!$O14 -> 0 | E20: ='João R'!$O15 -> 174.94 | F20: ='João R'!$O17 -> 0 | G20: ='João R'!$O17 -> 0 | H20: ='João R'!$O18 -> 0 | I20: ='João R'!$O19 -> 0 | J20: ='João R'!$O20 -> 0 | K20: =SUM(C20:J20) -> 334.49 | L20: =41745-K20 -> 41410.51
A21: Elisiani Sanches | B21: 07/23 | C21: =Elisiani!$O13 -> 295.97 | D21: =Elisiani!$O14 -> 0 | E21: =Elisiani!$O15 -> 91.74 | F21: =Elisiani!$O18 -> 0 | G21: =Elisiani!$O17 -> 0 | H21: =Elisiani!$O18 -> 0 | I21: =Elisiani!$O19 -> 0 | J21: =Elisiani!$O20 -> 0 | K21: =SUM(C21:J21) -> 387.71 | L21: =41745-K21 -> 41357.29
A22: Aderbal Pedroso | B22: 11/21 | C22: =Aderbal!$O13 -> 124.76 | D22: =Aderbal!$O14 -> 0 | E22: =Aderbal!$O15 -> 63.36 | F22: =Aderbal!$O19 -> 0 | G22: =Aderbal!$O17 -> 0 | H22: =Aderbal!$O18 -> 0 | I22: =Aderbal!$O19 -> 0 | J22: =Aderbal!$O20 -> 0 | K22: =SUM(C22:J22) -> 188.12 | L22: =41745-K22 -> 41556.88
A23: Luiz Paulo Carraro | B23: 44209 | C23: =Carraro!$O13 -> 146.1 | D23: =Carraro!$O14 -> 0 | E23: =Carraro!$O15 -> 395.78 | F23: =Carraro!$O20 -> 0 | G23: =Carraro!$O17 -> 0 | H23: =Carraro!$O18 -> 0 | I23: =Carraro!$O19 -> 0 | J23: =Carraro!$O20 -> 0 | K23: =SUM(C23:J23) -> 541.88 | L23: =41745-K23 -> 41203.12
A24: Marcilei A. P. Vignatti | B24: 44210 | C24: =Marcilei!$O13 -> 150.06 | D24: =Marcilei!$O14 -> 0 | E24: =Marcilei!O15 -> 385.11 | F24: =Marcilei!$O21 -> 8114.33 | G24: =Marcilei!$O17 -> 0 | H24: =Marcilei!$O18 -> 700 | I24: =Marcilei!$O19 -> 3595.22 | J24: =Marcilei!$O20 -> 3283.94 | K24: 8114.33 | L24: =41745-K24 -> 33630.67
A25: Neuri Luiz Mantelli | B25: 02/23 | C25: =Neuri!$O13 -> 120.44 | D25: =Neuri!$O14 -> 0 | E25: =Neuri!$O15 -> 123.53 | F25: =Neuri!$O14 -> 0 | G25: =Neuri!$O17 -> 0 | H25: =Neuri!$O18 -> 0 | I25: =Neuri!$O19 -> 0 | J25: =Neuri!$O20 -> 0 | K25: =SUM(C25:J25) -> 243.97 | L25: =41745-K25 -> 41501.03
A26: Sueli Suttili | B26: 44214 | C26: =Sueli!$O13 -> 9.13 | D26: =Sueli!$O14 -> 0 | E26: =Sueli!$O15 -> 164.34 | F26: =Sueli!$O23 | G26: =Sueli!$O17 -> 0 | H26: =Sueli!$O18 -> 0 | I26: =Sueli!$O19 -> 0 | J26: =Sueli!$O20 -> 467.54 | K26: =SUM(C26:J26) -> 641.01 | L26: =41745-K26 -> 41103.99
A27: Valdemir A. Stobe | B27: 44215 | C27: =Valdemir!$O13 -> 120.07 | D27: =Valdemir!$O14 -> 0 | E27: =Valdemir!$O15 -> 227.24 | F27: =Valdemir!$O24 | G27: =Valdemir!$O17 -> 0 | H27: =Valdemir!$O18 -> 0 | I27: =Valdemir!$O19 -> 0 | J27: =Valdemir!$O20 -> 0 | K27: =SUM(C27:J27) -> 347.31 | L27: =41745-K27 -> 41397.69
A28: Valdir S. Carvalho | B28: 44216 | C28: =Carvalho!$O13 -> 78.86 | D28: =Carvalho!$O14 -> 0 | E28: =Carvalho!$O15 -> 172.8 | F28: =Carvalho!$O16 -> 0 | G28: =Carvalho!$O17 -> 0 | H28: =Carvalho!$O18 -> 590 | I28: =Carvalho!$O19 -> 2824.72 | J28: =Carvalho!$O20 -> 4675.44 | K28: =SUM(C28:J28) -> 8341.82 | L28: =41745-K28 -> 33403.18
A29: Wilson Jr Cidrão | B29: 44217 | C29: ='Cidrão'!$O13 -> 29.95 | D29: ='Cidrão'!$O14 -> 0 | E29: ='Cidrão'!$O15 -> 25.19 | F29: ='Cidrão'!$O16 -> 0 | G29: ='Cidrão'!$O17 -> 0 | H29: ='Cidrão'!$O18 -> 0 | I29: ='Cidrão'!$O19 -> 0 | J29: ='Cidrão'!$O20 -> 0 | K29: =SUM(C29:J29) -> 55.14 | L29: =41745-K29 -> 41689.86
A30: SOMA | B30: - | C30: =SUM(C9:C29) -> 3843.5 | D30: =SUM(D9:D29) -> 0 | E30: =SUM(E9:E29) -> 3556.82 | F30: =SUM(F9:F29) -> 8114.33 | G30: =SUM(G9:G29) -> 0 | H30: =SUM(H9:H29) -> 4460 | I30: =SUM(I9:I29) -> 17305 | J30: =SUM(J9:J29) -> 26739.06 | K30: =SUM(K9:K29) -> 55904.38
